BEGIN:VCALENDAR
VERSION:2.0
PRODID:-//SRQ housechurch - ECPv6.15.20//NONSGML v1.0//EN
CALSCALE:GREGORIAN
METHOD:PUBLISH
X-ORIGINAL-URL:https://srqhousechurch.com
X-WR-CALDESC:Events for SRQ housechurch
REFRESH-INTERVAL;VALUE=DURATION:PT1H
X-Robots-Tag:noindex
X-PUBLISHED-TTL:PT1H
BEGIN:VTIMEZONE
TZID:America/New_York
BEGIN:DAYLIGHT
TZOFFSETFROM:-0500
TZOFFSETTO:-0400
TZNAME:EDT
DTSTART:20240310T070000
END:DAYLIGHT
BEGIN:STANDARD
TZOFFSETFROM:-0400
TZOFFSETTO:-0500
TZNAME:EST
DTSTART:20241103T060000
END:STANDARD
BEGIN:DAYLIGHT
TZOFFSETFROM:-0500
TZOFFSETTO:-0400
TZNAME:EDT
DTSTART:20250309T070000
END:DAYLIGHT
BEGIN:STANDARD
TZOFFSETFROM:-0400
TZOFFSETTO:-0500
TZNAME:EST
DTSTART:20251102T060000
END:STANDARD
BEGIN:DAYLIGHT
TZOFFSETFROM:-0500
TZOFFSETTO:-0400
TZNAME:EDT
DTSTART:20260308T070000
END:DAYLIGHT
BEGIN:STANDARD
TZOFFSETFROM:-0400
TZOFFSETTO:-0500
TZNAME:EST
DTSTART:20261101T060000
END:STANDARD
BEGIN:DAYLIGHT
TZOFFSETFROM:-0500
TZOFFSETTO:-0400
TZNAME:EDT
DTSTART:20270314T070000
END:DAYLIGHT
BEGIN:STANDARD
TZOFFSETFROM:-0400
TZOFFSETTO:-0500
TZNAME:EST
DTSTART:20271107T060000
END:STANDARD
END:VTIMEZONE
BEGIN:VEVENT
DTSTART;TZID=America/New_York:20250406T100000
DTEND;TZID=America/New_York:20250406T120000
DTSTAMP:20260420T005708
CREATED:20250130T162705Z
LAST-MODIFIED:20250130T162705Z
UID:10000473-1743933600-1743940800@srqhousechurch.com
SUMMARY:All Together Church Service
DESCRIPTION:
URL:https://srqhousechurch.com/event/all-together-church-service-33/
LOCATION:Carlisle Inn\, 3727 Bahia Vista St\, Sarasota\, Florida\, 34232
CATEGORIES:All Church Services
ATTACH;FMTTYPE=image/jpeg:https://srqhousechurch.com/wp-content/uploads/2023/09/footer-9103.jpg
END:VEVENT
BEGIN:VEVENT
DTSTART;TZID=America/New_York:20250420T100000
DTEND;TZID=America/New_York:20250420T120000
DTSTAMP:20260420T005709
CREATED:20250130T162912Z
LAST-MODIFIED:20250130T162912Z
UID:10000474-1745143200-1745150400@srqhousechurch.com
SUMMARY:All Together Church Service
DESCRIPTION:
URL:https://srqhousechurch.com/event/all-together-church-service-34/
LOCATION:Carlisle Inn\, 3727 Bahia Vista St\, Sarasota\, Florida\, 34232
CATEGORIES:All Church Services
ATTACH;FMTTYPE=image/jpeg:https://srqhousechurch.com/wp-content/uploads/2023/11/MKD-9105-1-scaled.jpg
END:VEVENT
BEGIN:VEVENT
DTSTART;TZID=America/New_York:20250511T100000
DTEND;TZID=America/New_York:20250511T120000
DTSTAMP:20260420T005709
CREATED:20250130T163046Z
LAST-MODIFIED:20250130T163046Z
UID:10000475-1746957600-1746964800@srqhousechurch.com
SUMMARY:All Together Church Service
DESCRIPTION:
URL:https://srqhousechurch.com/event/all-together-church-service-35/
LOCATION:Carlisle Inn\, 3727 Bahia Vista St\, Sarasota\, Florida\, 34232
CATEGORIES:All Church Services
ATTACH;FMTTYPE=image/webp:https://srqhousechurch.com/wp-content/uploads/2023/09/home-divider-9148.1.webp
END:VEVENT
BEGIN:VEVENT
DTSTART;TZID=America/New_York:20250608T100000
DTEND;TZID=America/New_York:20250608T120000
DTSTAMP:20260420T005709
CREATED:20250130T163304Z
LAST-MODIFIED:20250130T163304Z
UID:10000477-1749376800-1749384000@srqhousechurch.com
SUMMARY:All Together Church Service
DESCRIPTION:
URL:https://srqhousechurch.com/event/all-together-church-service-37/
LOCATION:Carlisle Inn\, 3727 Bahia Vista St\, Sarasota\, Florida\, 34232
CATEGORIES:All Church Services
ATTACH;FMTTYPE=image/jpeg:https://srqhousechurch.com/wp-content/uploads/2023/11/MKD-9105-scaled.jpg
END:VEVENT
BEGIN:VEVENT
DTSTART;TZID=America/New_York:20250622T100000
DTEND;TZID=America/New_York:20250622T120000
DTSTAMP:20260420T005709
CREATED:20250130T163429Z
LAST-MODIFIED:20250130T163429Z
UID:10000478-1750586400-1750593600@srqhousechurch.com
SUMMARY:All Together Church Service
DESCRIPTION:
URL:https://srqhousechurch.com/event/all-together-church-service-38/
LOCATION:Carlisle Inn\, 3727 Bahia Vista St\, Sarasota\, Florida\, 34232
CATEGORIES:All Church Services
ATTACH;FMTTYPE=image/jpeg:https://srqhousechurch.com/wp-content/uploads/2023/09/footer-9103.jpg
END:VEVENT
BEGIN:VEVENT
DTSTART;TZID=America/New_York:20250706T100000
DTEND;TZID=America/New_York:20250706T120000
DTSTAMP:20260420T005709
CREATED:20250130T163630Z
LAST-MODIFIED:20250130T163630Z
UID:10000479-1751796000-1751803200@srqhousechurch.com
SUMMARY:All Together Church Service
DESCRIPTION:
URL:https://srqhousechurch.com/event/all-together-church-service-39/
LOCATION:Carlisle Inn\, 3727 Bahia Vista St\, Sarasota\, Florida\, 34232
CATEGORIES:All Church Services
ATTACH;FMTTYPE=image/jpeg:https://srqhousechurch.com/wp-content/uploads/2023/09/footer-9118.jpg
END:VEVENT
BEGIN:VEVENT
DTSTART;TZID=America/New_York:20250720T100000
DTEND;TZID=America/New_York:20250720T120000
DTSTAMP:20260420T005709
CREATED:20250705T151755Z
LAST-MODIFIED:20250714T120852Z
UID:10000549-1753005600-1753012800@srqhousechurch.com
SUMMARY:Florida Discipleship Conference: Sunday Service
DESCRIPTION:
URL:https://srqhousechurch.com/event/florida-discipleship-conference-sunday-service/
LOCATION:Rosen Centre Hotel\, 9840 International Dr Orlando\, FL. 32819
CATEGORIES:All Church Services
ATTACH;FMTTYPE=image/webp:https://srqhousechurch.com/wp-content/uploads/2023/09/home-divider-9148.1.webp
END:VEVENT
BEGIN:VEVENT
DTSTART;TZID=America/New_York:20250810T100000
DTEND;TZID=America/New_York:20250810T120000
DTSTAMP:20260420T005709
CREATED:20250130T163719Z
LAST-MODIFIED:20250130T163719Z
UID:10000480-1754820000-1754827200@srqhousechurch.com
SUMMARY:All Together Church Service
DESCRIPTION:
URL:https://srqhousechurch.com/event/all-together-church-service-40/
LOCATION:Carlisle Inn\, 3727 Bahia Vista St\, Sarasota\, Florida\, 34232
CATEGORIES:All Church Services
ATTACH;FMTTYPE=image/webp:https://srqhousechurch.com/wp-content/uploads/2023/09/home-divider-9148.1.webp
END:VEVENT
BEGIN:VEVENT
DTSTART;TZID=America/New_York:20250831T100000
DTEND;TZID=America/New_York:20250831T120000
DTSTAMP:20260420T005709
CREATED:20250130T163757Z
LAST-MODIFIED:20250815T122822Z
UID:10000481-1756634400-1756641600@srqhousechurch.com
SUMMARY:All Together Church Service
DESCRIPTION:
URL:https://srqhousechurch.com/event/all-together-church-service-41/
LOCATION:Carlisle Inn\, 3727 Bahia Vista St\, Sarasota\, Florida\, 34232
CATEGORIES:All Church Services
ATTACH;FMTTYPE=image/webp:https://srqhousechurch.com/wp-content/uploads/2023/09/MKD-9123.webp
END:VEVENT
BEGIN:VEVENT
DTSTART;TZID=America/New_York:20250907T100000
DTEND;TZID=America/New_York:20250907T120000
DTSTAMP:20260420T005709
CREATED:20250130T163858Z
LAST-MODIFIED:20250130T163858Z
UID:10000482-1757239200-1757246400@srqhousechurch.com
SUMMARY:All Together Church Service
DESCRIPTION:
URL:https://srqhousechurch.com/event/all-together-church-service-42/
LOCATION:Carlisle Inn\, 3727 Bahia Vista St\, Sarasota\, Florida\, 34232
CATEGORIES:All Church Services
ATTACH;FMTTYPE=image/jpeg:https://srqhousechurch.com/wp-content/uploads/2023/09/calendar-9124-2.jpg
END:VEVENT
BEGIN:VEVENT
DTSTART;TZID=America/New_York:20251005T100000
DTEND;TZID=America/New_York:20251005T120000
DTSTAMP:20260420T005709
CREATED:20250130T164157Z
LAST-MODIFIED:20250130T164157Z
UID:10000484-1759658400-1759665600@srqhousechurch.com
SUMMARY:All Together Church Service
DESCRIPTION:
URL:https://srqhousechurch.com/event/all-together-church-service-44/
LOCATION:Carlisle Inn\, 3727 Bahia Vista St\, Sarasota\, Florida\, 34232
CATEGORIES:All Church Services
ATTACH;FMTTYPE=image/jpeg:https://srqhousechurch.com/wp-content/uploads/2023/09/footer-9103.jpg
END:VEVENT
BEGIN:VEVENT
DTSTART;TZID=America/New_York:20251012T100000
DTEND;TZID=America/New_York:20251012T120000
DTSTAMP:20260420T005709
CREATED:20250130T164247Z
LAST-MODIFIED:20250130T164247Z
UID:10000485-1760263200-1760270400@srqhousechurch.com
SUMMARY:All Together Church Service
DESCRIPTION:
URL:https://srqhousechurch.com/event/all-together-church-service-45/
LOCATION:Carlisle Inn\, 3727 Bahia Vista St\, Sarasota\, Florida\, 34232
CATEGORIES:All Church Services
ATTACH;FMTTYPE=image/jpeg:https://srqhousechurch.com/wp-content/uploads/2023/09/footer-9118.jpg
END:VEVENT
BEGIN:VEVENT
DTSTART;TZID=America/New_York:20251109T100000
DTEND;TZID=America/New_York:20251109T120000
DTSTAMP:20260420T005709
CREATED:20250130T164431Z
LAST-MODIFIED:20250130T164431Z
UID:10000486-1762682400-1762689600@srqhousechurch.com
SUMMARY:All Together Church Service
DESCRIPTION:
URL:https://srqhousechurch.com/event/all-together-church-service-46/
LOCATION:Carlisle Inn\, 3727 Bahia Vista St\, Sarasota\, Florida\, 34232
CATEGORIES:All Church Services
ATTACH;FMTTYPE=image/webp:https://srqhousechurch.com/wp-content/uploads/2023/09/home-divider-9148.1.webp
END:VEVENT
BEGIN:VEVENT
DTSTART;TZID=America/New_York:20251116T093000
DTEND;TZID=America/New_York:20251116T133000
DTSTAMP:20260420T005709
CREATED:20251029T164324Z
LAST-MODIFIED:20251111T151458Z
UID:10000607-1763285400-1763299800@srqhousechurch.com
SUMMARY:Outdoor Park Service & Funky Monkey Bowl
DESCRIPTION:
URL:https://srqhousechurch.com/event/outdoor-park-service-funky-monkey-bowl/
LOCATION:Turner Park\, 9185 Little Dipper Lane\, Sarasota\, FL\, 34241\, United States
CATEGORIES:All Church Services,Fun Events
ATTACH;FMTTYPE=image/jpeg:https://srqhousechurch.com/wp-content/uploads/2019/07/IMG_0371.jpg
END:VEVENT
BEGIN:VEVENT
DTSTART;TZID=America/New_York:20251123T100000
DTEND;TZID=America/New_York:20251123T120000
DTSTAMP:20260420T005709
CREATED:20250130T164621Z
LAST-MODIFIED:20250130T164621Z
UID:10000487-1763892000-1763899200@srqhousechurch.com
SUMMARY:All Together Church Service
DESCRIPTION:
URL:https://srqhousechurch.com/event/all-together-church-service-47/
LOCATION:Carlisle Inn\, 3727 Bahia Vista St\, Sarasota\, Florida\, 34232
CATEGORIES:All Church Services
ATTACH;FMTTYPE=image/webp:https://srqhousechurch.com/wp-content/uploads/2023/09/MKD-9123.webp
END:VEVENT
BEGIN:VEVENT
DTSTART;TZID=America/New_York:20251214T100000
DTEND;TZID=America/New_York:20251214T120000
DTSTAMP:20260420T005709
CREATED:20250130T164730Z
LAST-MODIFIED:20250130T164730Z
UID:10000488-1765706400-1765713600@srqhousechurch.com
SUMMARY:All Together Church Service
DESCRIPTION:
URL:https://srqhousechurch.com/event/all-together-church-service-48/
LOCATION:Carlisle Inn\, 3727 Bahia Vista St\, Sarasota\, Florida\, 34232
CATEGORIES:All Church Services
ATTACH;FMTTYPE=image/jpeg:https://srqhousechurch.com/wp-content/uploads/2023/09/calendar-9124-2.jpg
END:VEVENT
BEGIN:VEVENT
DTSTART;TZID=America/New_York:20251221T100000
DTEND;TZID=America/New_York:20251221T120000
DTSTAMP:20260420T005709
CREATED:20250130T164929Z
LAST-MODIFIED:20250130T164929Z
UID:10000489-1766311200-1766318400@srqhousechurch.com
SUMMARY:All Together Church Service
DESCRIPTION:
URL:https://srqhousechurch.com/event/all-together-church-service-49/
LOCATION:Carlisle Inn\, 3727 Bahia Vista St\, Sarasota\, Florida\, 34232
CATEGORIES:All Church Services
ATTACH;FMTTYPE=image/jpeg:https://srqhousechurch.com/wp-content/uploads/2023/11/MKD-9105-1-scaled.jpg
END:VEVENT
BEGIN:VEVENT
DTSTART;TZID=America/New_York:20260104T100000
DTEND;TZID=America/New_York:20260104T120000
DTSTAMP:20260420T005709
CREATED:20251227T172535Z
LAST-MODIFIED:20260419T201019Z
UID:10000625-1767520800-1767528000@srqhousechurch.com
SUMMARY:All Together Church Service
DESCRIPTION:
URL:https://srqhousechurch.com/event/all-together-church-service-36/2026-01-04/
LOCATION:Community Day School-Hershorin Schiff Community Day School\, 4335 Wilkinson Rd.\, Sarasota\, FL\, 34233\, United States
CATEGORIES:All Church Services
ATTACH;FMTTYPE=image/webp:https://srqhousechurch.com/wp-content/uploads/2023/09/small-9149.webp
END:VEVENT
BEGIN:VEVENT
DTSTART;TZID=America/New_York:20260118T100000
DTEND;TZID=America/New_York:20260118T120000
DTSTAMP:20260420T005709
CREATED:20251227T172535Z
LAST-MODIFIED:20260419T201019Z
UID:10000626-1768730400-1768737600@srqhousechurch.com
SUMMARY:All Together Church Service
DESCRIPTION:
URL:https://srqhousechurch.com/event/all-together-church-service-36/2026-01-18/
LOCATION:Community Day School-Hershorin Schiff Community Day School\, 4335 Wilkinson Rd.\, Sarasota\, FL\, 34233\, United States
CATEGORIES:All Church Services
ATTACH;FMTTYPE=image/webp:https://srqhousechurch.com/wp-content/uploads/2023/09/small-9149.webp
END:VEVENT
BEGIN:VEVENT
DTSTART;TZID=America/New_York:20260201T100000
DTEND;TZID=America/New_York:20260201T120000
DTSTAMP:20260420T005709
CREATED:20251227T172535Z
LAST-MODIFIED:20260419T201019Z
UID:10000627-1769940000-1769947200@srqhousechurch.com
SUMMARY:All Together Church Service
DESCRIPTION:
URL:https://srqhousechurch.com/event/all-together-church-service-36/2026-02-01/
LOCATION:Community Day School-Hershorin Schiff Community Day School\, 4335 Wilkinson Rd.\, Sarasota\, FL\, 34233\, United States
CATEGORIES:All Church Services
ATTACH;FMTTYPE=image/webp:https://srqhousechurch.com/wp-content/uploads/2023/09/small-9149.webp
END:VEVENT
BEGIN:VEVENT
DTSTART;TZID=America/New_York:20260215T100000
DTEND;TZID=America/New_York:20260215T120000
DTSTAMP:20260420T005709
CREATED:20251227T172535Z
LAST-MODIFIED:20260419T201019Z
UID:10000628-1771149600-1771156800@srqhousechurch.com
SUMMARY:All Together Church Service
DESCRIPTION:
URL:https://srqhousechurch.com/event/all-together-church-service-36/2026-02-15/
LOCATION:Community Day School-Hershorin Schiff Community Day School\, 4335 Wilkinson Rd.\, Sarasota\, FL\, 34233\, United States
CATEGORIES:All Church Services
ATTACH;FMTTYPE=image/webp:https://srqhousechurch.com/wp-content/uploads/2023/09/small-9149.webp
END:VEVENT
BEGIN:VEVENT
DTSTART;TZID=America/New_York:20260301T100000
DTEND;TZID=America/New_York:20260301T120000
DTSTAMP:20260420T005709
CREATED:20251227T172535Z
LAST-MODIFIED:20260419T201019Z
UID:10000629-1772359200-1772366400@srqhousechurch.com
SUMMARY:All Together Church Service
DESCRIPTION:
URL:https://srqhousechurch.com/event/all-together-church-service-36/2026-03-01/
LOCATION:Community Day School-Hershorin Schiff Community Day School\, 4335 Wilkinson Rd.\, Sarasota\, FL\, 34233\, United States
CATEGORIES:All Church Services
ATTACH;FMTTYPE=image/webp:https://srqhousechurch.com/wp-content/uploads/2023/09/small-9149.webp
END:VEVENT
BEGIN:VEVENT
DTSTART;TZID=America/New_York:20260315T100000
DTEND;TZID=America/New_York:20260315T120000
DTSTAMP:20260420T005709
CREATED:20251227T172535Z
LAST-MODIFIED:20260419T201019Z
UID:10000630-1773568800-1773576000@srqhousechurch.com
SUMMARY:All Together Church Service
DESCRIPTION:
URL:https://srqhousechurch.com/event/all-together-church-service-36/2026-03-15/
LOCATION:Community Day School-Hershorin Schiff Community Day School\, 4335 Wilkinson Rd.\, Sarasota\, FL\, 34233\, United States
CATEGORIES:All Church Services
ATTACH;FMTTYPE=image/webp:https://srqhousechurch.com/wp-content/uploads/2023/09/small-9149.webp
END:VEVENT
BEGIN:VEVENT
DTSTART;TZID=America/New_York:20260405T100000
DTEND;TZID=America/New_York:20260405T120000
DTSTAMP:20260420T005709
CREATED:20251227T172535Z
LAST-MODIFIED:20260419T201019Z
UID:10000631-1775383200-1775390400@srqhousechurch.com
SUMMARY:All Together Church Service
DESCRIPTION:
URL:https://srqhousechurch.com/event/all-together-church-service-36/2026-04-05/
LOCATION:Community Day School-Hershorin Schiff Community Day School\, 4335 Wilkinson Rd.\, Sarasota\, FL\, 34233\, United States
CATEGORIES:All Church Services
ATTACH;FMTTYPE=image/webp:https://srqhousechurch.com/wp-content/uploads/2023/09/small-9149.webp
END:VEVENT
BEGIN:VEVENT
DTSTART;TZID=America/New_York:20260419T100000
DTEND;TZID=America/New_York:20260419T120000
DTSTAMP:20260420T005709
CREATED:20251227T172535Z
LAST-MODIFIED:20260419T201019Z
UID:10000632-1776592800-1776600000@srqhousechurch.com
SUMMARY:All Together Church Service
DESCRIPTION:
URL:https://srqhousechurch.com/event/all-together-church-service-36/2026-04-19/
LOCATION:Community Day School-Hershorin Schiff Community Day School\, 4335 Wilkinson Rd.\, Sarasota\, FL\, 34233\, United States
CATEGORIES:All Church Services
ATTACH;FMTTYPE=image/webp:https://srqhousechurch.com/wp-content/uploads/2023/09/small-9149.webp
END:VEVENT
BEGIN:VEVENT
DTSTART;TZID=America/New_York:20260503T100000
DTEND;TZID=America/New_York:20260503T120000
DTSTAMP:20260420T005709
CREATED:20251227T172535Z
LAST-MODIFIED:20260419T201019Z
UID:10000744-1777802400-1777809600@srqhousechurch.com
SUMMARY:All Together Church Service
DESCRIPTION:
URL:https://srqhousechurch.com/event/all-together-church-service-36/2026-05-03/
LOCATION:Community Day School-Hershorin Schiff Community Day School\, 4335 Wilkinson Rd.\, Sarasota\, FL\, 34233\, United States
CATEGORIES:All Church Services
ATTACH;FMTTYPE=image/webp:https://srqhousechurch.com/wp-content/uploads/2023/09/small-9149.webp
END:VEVENT
BEGIN:VEVENT
DTSTART;TZID=America/New_York:20260517T100000
DTEND;TZID=America/New_York:20260517T120000
DTSTAMP:20260420T005709
CREATED:20251227T172535Z
LAST-MODIFIED:20260419T201019Z
UID:10000745-1779012000-1779019200@srqhousechurch.com
SUMMARY:All Together Church Service
DESCRIPTION:
URL:https://srqhousechurch.com/event/all-together-church-service-36/2026-05-17/
LOCATION:Community Day School-Hershorin Schiff Community Day School\, 4335 Wilkinson Rd.\, Sarasota\, FL\, 34233\, United States
CATEGORIES:All Church Services
ATTACH;FMTTYPE=image/webp:https://srqhousechurch.com/wp-content/uploads/2023/09/small-9149.webp
END:VEVENT
BEGIN:VEVENT
DTSTART;TZID=America/New_York:20260607T100000
DTEND;TZID=America/New_York:20260607T120000
DTSTAMP:20260420T005709
CREATED:20251227T172535Z
LAST-MODIFIED:20260419T201019Z
UID:10000746-1780826400-1780833600@srqhousechurch.com
SUMMARY:All Together Church Service
DESCRIPTION:
URL:https://srqhousechurch.com/event/all-together-church-service-36/2026-06-07/
LOCATION:Community Day School-Hershorin Schiff Community Day School\, 4335 Wilkinson Rd.\, Sarasota\, FL\, 34233\, United States
CATEGORIES:All Church Services
ATTACH;FMTTYPE=image/webp:https://srqhousechurch.com/wp-content/uploads/2023/09/small-9149.webp
END:VEVENT
BEGIN:VEVENT
DTSTART;TZID=America/New_York:20260621T100000
DTEND;TZID=America/New_York:20260621T120000
DTSTAMP:20260420T005709
CREATED:20251227T172535Z
LAST-MODIFIED:20260419T201019Z
UID:10000747-1782036000-1782043200@srqhousechurch.com
SUMMARY:All Together Church Service
DESCRIPTION:
URL:https://srqhousechurch.com/event/all-together-church-service-36/2026-06-21/
LOCATION:Community Day School-Hershorin Schiff Community Day School\, 4335 Wilkinson Rd.\, Sarasota\, FL\, 34233\, United States
CATEGORIES:All Church Services
ATTACH;FMTTYPE=image/webp:https://srqhousechurch.com/wp-content/uploads/2023/09/small-9149.webp
END:VEVENT
BEGIN:VEVENT
DTSTART;TZID=America/New_York:20260705T100000
DTEND;TZID=America/New_York:20260705T120000
DTSTAMP:20260420T005709
CREATED:20251227T172535Z
LAST-MODIFIED:20260419T201019Z
UID:10000748-1783245600-1783252800@srqhousechurch.com
SUMMARY:All Together Church Service
DESCRIPTION:
URL:https://srqhousechurch.com/event/all-together-church-service-36/2026-07-05/
LOCATION:Community Day School-Hershorin Schiff Community Day School\, 4335 Wilkinson Rd.\, Sarasota\, FL\, 34233\, United States
CATEGORIES:All Church Services
ATTACH;FMTTYPE=image/webp:https://srqhousechurch.com/wp-content/uploads/2023/09/small-9149.webp
END:VEVENT
END:VCALENDAR