BEGIN:VCALENDAR
VERSION:2.0
PRODID:-//SRQ housechurch - ECPv6.15.20//NONSGML v1.0//EN
CALSCALE:GREGORIAN
METHOD:PUBLISH
X-WR-CALNAME:SRQ housechurch
X-ORIGINAL-URL:https://srqhousechurch.com
X-WR-CALDESC:Events for SRQ housechurch
REFRESH-INTERVAL;VALUE=DURATION:PT1H
X-Robots-Tag:noindex
X-PUBLISHED-TTL:PT1H
BEGIN:VTIMEZONE
TZID:America/New_York
BEGIN:DAYLIGHT
TZOFFSETFROM:-0500
TZOFFSETTO:-0400
TZNAME:EDT
DTSTART:20230312T070000
END:DAYLIGHT
BEGIN:STANDARD
TZOFFSETFROM:-0400
TZOFFSETTO:-0500
TZNAME:EST
DTSTART:20231105T060000
END:STANDARD
BEGIN:DAYLIGHT
TZOFFSETFROM:-0500
TZOFFSETTO:-0400
TZNAME:EDT
DTSTART:20240310T070000
END:DAYLIGHT
BEGIN:STANDARD
TZOFFSETFROM:-0400
TZOFFSETTO:-0500
TZNAME:EST
DTSTART:20241103T060000
END:STANDARD
BEGIN:DAYLIGHT
TZOFFSETFROM:-0500
TZOFFSETTO:-0400
TZNAME:EDT
DTSTART:20250309T070000
END:DAYLIGHT
BEGIN:STANDARD
TZOFFSETFROM:-0400
TZOFFSETTO:-0500
TZNAME:EST
DTSTART:20251102T060000
END:STANDARD
END:VTIMEZONE
BEGIN:VEVENT
DTSTART;TZID=America/New_York:20241020T100000
DTEND;TZID=America/New_York:20241020T120000
DTSTAMP:20260422T181814
CREATED:20231215T182859Z
LAST-MODIFIED:20231215T182859Z
UID:10000081-1729418400-1729425600@srqhousechurch.com
SUMMARY:Fruitville Housechurch Service
DESCRIPTION:
URL:https://srqhousechurch.com/event/fruitville-housechurch-service-24/
LOCATION:SRQ-Fruitville Housechurch\, 1664 Georgetowne Boulevard\, Sarasota\, Florida\, 34232
CATEGORIES:Housechurch Services
ATTACH;FMTTYPE=image/jpeg:https://srqhousechurch.com/wp-content/uploads/2023/11/MKD-9320-scaled.jpg
END:VEVENT
BEGIN:VEVENT
DTSTART;TZID=America/New_York:20241020T100000
DTEND;TZID=America/New_York:20241020T120000
DTSTAMP:20260422T181814
CREATED:20231229T203820Z
LAST-MODIFIED:20240720T202813Z
UID:10000341-1729418400-1729425600@srqhousechurch.com
SUMMARY:Sarasota Housechurch Service
DESCRIPTION:
URL:https://srqhousechurch.com/event/sarasota-housechurch-service-4/2024-10-20/
CATEGORIES:Housechurch Services
ATTACH;FMTTYPE=image/webp:https://srqhousechurch.com/wp-content/uploads/2023/09/MKD-9345.webp
END:VEVENT
BEGIN:VEVENT
DTSTART;TZID=America/New_York:20241020T100000
DTEND;TZID=America/New_York:20241020T120000
DTSTAMP:20260422T181814
CREATED:20241001T131040Z
LAST-MODIFIED:20241001T131040Z
UID:10000387-1729418400-1729425600@srqhousechurch.com
SUMMARY:Skye Ranch Housechurch Service
DESCRIPTION:
URL:https://srqhousechurch.com/event/skye-ranch-housechurch-service-6/
LOCATION:SRQ-Snowfall St. Housechurch\, 8475 Snowfall Street\, Sarasota\, FL\, 34241\, United States
CATEGORIES:Housechurch Services
ATTACH;FMTTYPE=image/jpeg:https://srqhousechurch.com/wp-content/uploads/2023/09/footer-9103.jpg
END:VEVENT
BEGIN:VEVENT
DTSTART;TZID=America/New_York:20241027T100000
DTEND;TZID=America/New_York:20241027T120000
DTSTAMP:20260422T181814
CREATED:20231215T182951Z
LAST-MODIFIED:20231215T182951Z
UID:10000082-1730023200-1730030400@srqhousechurch.com
SUMMARY:Fruitville Housechurch Service
DESCRIPTION:
URL:https://srqhousechurch.com/event/fruitville-housechurch-service-25/
LOCATION:SRQ-Fruitville Housechurch\, 1664 Georgetowne Boulevard\, Sarasota\, Florida\, 34232
CATEGORIES:Housechurch Services
ATTACH;FMTTYPE=image/jpeg:https://srqhousechurch.com/wp-content/uploads/2023/11/MKD-9320-scaled.jpg
END:VEVENT
BEGIN:VEVENT
DTSTART;TZID=America/New_York:20241027T100000
DTEND;TZID=America/New_York:20241027T120000
DTSTAMP:20260422T181814
CREATED:20231229T204728Z
LAST-MODIFIED:20231229T204728Z
UID:10000351-1730023200-1730030400@srqhousechurch.com
SUMMARY:Sarasota Housechurch Service
DESCRIPTION:
URL:https://srqhousechurch.com/event/sarasota-housechurch-service-12/
CATEGORIES:Housechurch Services
ATTACH;FMTTYPE=image/webp:https://srqhousechurch.com/wp-content/uploads/2023/09/MKD-9345.webp
END:VEVENT
BEGIN:VEVENT
DTSTART;TZID=America/New_York:20241027T100000
DTEND;TZID=America/New_York:20241027T120000
DTSTAMP:20260422T181814
CREATED:20241001T131129Z
LAST-MODIFIED:20241001T131129Z
UID:10000388-1730023200-1730030400@srqhousechurch.com
SUMMARY:Skye Ranch Housechurch Service
DESCRIPTION:
URL:https://srqhousechurch.com/event/skye-ranch-housechurch-service-7/
LOCATION:SRQ-Snowfall St. Housechurch\, 8475 Snowfall Street\, Sarasota\, FL\, 34241\, United States
CATEGORIES:Housechurch Services
ATTACH;FMTTYPE=image/jpeg:https://srqhousechurch.com/wp-content/uploads/2023/09/footer-9103.jpg
END:VEVENT
END:VCALENDAR