BEGIN:VCALENDAR
VERSION:2.0
PRODID:-//SRQ housechurch - ECPv6.15.20//NONSGML v1.0//EN
CALSCALE:GREGORIAN
METHOD:PUBLISH
X-WR-CALNAME:SRQ housechurch
X-ORIGINAL-URL:https://srqhousechurch.com
X-WR-CALDESC:Events for SRQ housechurch
REFRESH-INTERVAL;VALUE=DURATION:PT1H
X-Robots-Tag:noindex
X-PUBLISHED-TTL:PT1H
BEGIN:VTIMEZONE
TZID:America/New_York
BEGIN:DAYLIGHT
TZOFFSETFROM:-0500
TZOFFSETTO:-0400
TZNAME:EDT
DTSTART:20220313T070000
END:DAYLIGHT
BEGIN:STANDARD
TZOFFSETFROM:-0400
TZOFFSETTO:-0500
TZNAME:EST
DTSTART:20221106T060000
END:STANDARD
BEGIN:DAYLIGHT
TZOFFSETFROM:-0500
TZOFFSETTO:-0400
TZNAME:EDT
DTSTART:20230312T070000
END:DAYLIGHT
BEGIN:STANDARD
TZOFFSETFROM:-0400
TZOFFSETTO:-0500
TZNAME:EST
DTSTART:20231105T060000
END:STANDARD
BEGIN:DAYLIGHT
TZOFFSETFROM:-0500
TZOFFSETTO:-0400
TZNAME:EDT
DTSTART:20240310T070000
END:DAYLIGHT
BEGIN:STANDARD
TZOFFSETFROM:-0400
TZOFFSETTO:-0500
TZNAME:EST
DTSTART:20241103T060000
END:STANDARD
BEGIN:DAYLIGHT
TZOFFSETFROM:-0500
TZOFFSETTO:-0400
TZNAME:EDT
DTSTART:20250309T070000
END:DAYLIGHT
BEGIN:STANDARD
TZOFFSETFROM:-0400
TZOFFSETTO:-0500
TZNAME:EST
DTSTART:20251102T060000
END:STANDARD
END:VTIMEZONE
BEGIN:VEVENT
DTSTART;TZID=America/New_York:20231022T100000
DTEND;TZID=America/New_York:20231022T120000
DTSTAMP:20260425T072038
CREATED:20230925T220243Z
LAST-MODIFIED:20231004T160037Z
UID:10000004-1697968800-1697976000@srqhousechurch.com
SUMMARY:Sarasota Housechurch Service
DESCRIPTION:
URL:https://srqhousechurch.com/event/sarasota-house-church-service/
CATEGORIES:Housechurch Services
ATTACH;FMTTYPE=image/webp:https://srqhousechurch.com/wp-content/uploads/2023/09/MKD-9327.webp
END:VEVENT
BEGIN:VEVENT
DTSTART;TZID=America/New_York:20231022T100000
DTEND;TZID=America/New_York:20231022T120000
DTSTAMP:20260425T072038
CREATED:20230925T221034Z
LAST-MODIFIED:20231004T145854Z
UID:10000008-1697968800-1697976000@srqhousechurch.com
SUMMARY:Fruitville Housechurch Service
DESCRIPTION:
URL:https://srqhousechurch.com/event/fruitville-house-church-service-2/
LOCATION:SRQ-Fruitville Housechurch\, 1664 Georgetowne Boulevard\, Sarasota\, Florida\, 34232
CATEGORIES:Housechurch Services
ATTACH;FMTTYPE=image/webp:https://srqhousechurch.com/wp-content/uploads/2023/09/MKD-9313.webp
END:VEVENT
BEGIN:VEVENT
DTSTART;TZID=America/New_York:20231029T100000
DTEND;TZID=America/New_York:20231029T120000
DTSTAMP:20260425T072038
CREATED:20231009T132422Z
LAST-MODIFIED:20231009T132422Z
UID:10000029-1698573600-1698580800@srqhousechurch.com
SUMMARY:Sarasota Housechurch Service
DESCRIPTION:
URL:https://srqhousechurch.com/event/sarasota-housechurch-service-2/
CATEGORIES:Housechurch Services
ATTACH;FMTTYPE=image/webp:https://srqhousechurch.com/wp-content/uploads/2023/09/MKD-9327.webp
END:VEVENT
BEGIN:VEVENT
DTSTART;TZID=America/New_York:20231029T100000
DTEND;TZID=America/New_York:20231029T120000
DTSTAMP:20260425T072038
CREATED:20231009T132530Z
LAST-MODIFIED:20231009T132530Z
UID:10000030-1698573600-1698580800@srqhousechurch.com
SUMMARY:Fruitville Housechurch Service
DESCRIPTION:
URL:https://srqhousechurch.com/event/fruitville-housechurch-service-2/
LOCATION:SRQ-Fruitville Housechurch\, 1664 Georgetowne Boulevard\, Sarasota\, Florida\, 34232
CATEGORIES:Housechurch Services
ATTACH;FMTTYPE=image/webp:https://srqhousechurch.com/wp-content/uploads/2023/09/MKD-9313.webp
END:VEVENT
BEGIN:VEVENT
DTSTART;TZID=America/New_York:20231112T100000
DTEND;TZID=America/New_York:20231112T120000
DTSTAMP:20260425T072038
CREATED:20231004T151324Z
LAST-MODIFIED:20231004T151324Z
UID:10000014-1699783200-1699790400@srqhousechurch.com
SUMMARY:Fruitville Housechurch Service
DESCRIPTION:
URL:https://srqhousechurch.com/event/fruitville-housechurch-service/2023-11-12/
LOCATION:SRQ-Fruitville Housechurch\, 1664 Georgetowne Boulevard\, Sarasota\, Florida\, 34232
CATEGORIES:Housechurch Services
ATTACH;FMTTYPE=image/webp:https://srqhousechurch.com/wp-content/uploads/2023/09/MKD-9313.webp
END:VEVENT
BEGIN:VEVENT
DTSTART;TZID=America/New_York:20231112T100000
DTEND;TZID=America/New_York:20231112T120000
DTSTAMP:20260425T072038
CREATED:20231004T153744Z
LAST-MODIFIED:20231106T165405Z
UID:10000022-1699783200-1699790400@srqhousechurch.com
SUMMARY:Sarasota Housechurch Service
DESCRIPTION:
URL:https://srqhousechurch.com/event/sarasota-housechurch-service/2023-11-12/
CATEGORIES:Housechurch Services
ATTACH;FMTTYPE=image/webp:https://srqhousechurch.com/wp-content/uploads/2023/09/MKD-9301.webp
END:VEVENT
BEGIN:VEVENT
DTSTART;TZID=America/New_York:20231126T100000
DTEND;TZID=America/New_York:20231126T120000
DTSTAMP:20260425T072038
CREATED:20231004T151324Z
LAST-MODIFIED:20231004T151324Z
UID:10000015-1700992800-1701000000@srqhousechurch.com
SUMMARY:Fruitville Housechurch Service
DESCRIPTION:
URL:https://srqhousechurch.com/event/fruitville-housechurch-service/2023-11-26/
LOCATION:SRQ-Fruitville Housechurch\, 1664 Georgetowne Boulevard\, Sarasota\, Florida\, 34232
CATEGORIES:Housechurch Services
ATTACH;FMTTYPE=image/webp:https://srqhousechurch.com/wp-content/uploads/2023/09/MKD-9313.webp
END:VEVENT
BEGIN:VEVENT
DTSTART;TZID=America/New_York:20231126T100000
DTEND;TZID=America/New_York:20231126T120000
DTSTAMP:20260425T072038
CREATED:20231004T153744Z
LAST-MODIFIED:20231106T165405Z
UID:10000023-1700992800-1701000000@srqhousechurch.com
SUMMARY:Sarasota Housechurch Service
DESCRIPTION:
URL:https://srqhousechurch.com/event/sarasota-housechurch-service/2023-11-26/
CATEGORIES:Housechurch Services
ATTACH;FMTTYPE=image/webp:https://srqhousechurch.com/wp-content/uploads/2023/09/MKD-9301.webp
END:VEVENT
BEGIN:VEVENT
DTSTART;TZID=America/New_York:20231203T100000
DTEND;TZID=America/New_York:20231203T120000
DTSTAMP:20260425T072038
CREATED:20231004T151324Z
LAST-MODIFIED:20231004T151324Z
UID:10000016-1701597600-1701604800@srqhousechurch.com
SUMMARY:Fruitville Housechurch Service
DESCRIPTION:
URL:https://srqhousechurch.com/event/fruitville-housechurch-service/2023-12-03/
LOCATION:SRQ-Fruitville Housechurch\, 1664 Georgetowne Boulevard\, Sarasota\, Florida\, 34232
CATEGORIES:Housechurch Services
ATTACH;FMTTYPE=image/webp:https://srqhousechurch.com/wp-content/uploads/2023/09/MKD-9313.webp
END:VEVENT
BEGIN:VEVENT
DTSTART;TZID=America/New_York:20231203T100000
DTEND;TZID=America/New_York:20231203T120000
DTSTAMP:20260425T072038
CREATED:20231004T153744Z
LAST-MODIFIED:20231106T165405Z
UID:10000024-1701597600-1701604800@srqhousechurch.com
SUMMARY:Sarasota Housechurch Service
DESCRIPTION:
URL:https://srqhousechurch.com/event/sarasota-housechurch-service/2023-12-03/
CATEGORIES:Housechurch Services
ATTACH;FMTTYPE=image/webp:https://srqhousechurch.com/wp-content/uploads/2023/09/MKD-9301.webp
END:VEVENT
BEGIN:VEVENT
DTSTART;TZID=America/New_York:20231231T100000
DTEND;TZID=America/New_York:20231231T120000
DTSTAMP:20260425T072038
CREATED:20231004T151324Z
LAST-MODIFIED:20231004T151324Z
UID:10000017-1704016800-1704024000@srqhousechurch.com
SUMMARY:Fruitville Housechurch Service
DESCRIPTION:
URL:https://srqhousechurch.com/event/fruitville-housechurch-service/2023-12-31/
LOCATION:SRQ-Fruitville Housechurch\, 1664 Georgetowne Boulevard\, Sarasota\, Florida\, 34232
CATEGORIES:Housechurch Services
ATTACH;FMTTYPE=image/webp:https://srqhousechurch.com/wp-content/uploads/2023/09/MKD-9313.webp
END:VEVENT
BEGIN:VEVENT
DTSTART;TZID=America/New_York:20231231T100000
DTEND;TZID=America/New_York:20231231T120000
DTSTAMP:20260425T072038
CREATED:20231004T153744Z
LAST-MODIFIED:20231106T165405Z
UID:10000025-1704016800-1704024000@srqhousechurch.com
SUMMARY:Sarasota Housechurch Service
DESCRIPTION:
URL:https://srqhousechurch.com/event/sarasota-housechurch-service/2023-12-31/
CATEGORIES:Housechurch Services
ATTACH;FMTTYPE=image/webp:https://srqhousechurch.com/wp-content/uploads/2023/09/MKD-9301.webp
END:VEVENT
BEGIN:VEVENT
DTSTART;TZID=America/New_York:20240107T100000
DTEND;TZID=America/New_York:20240107T120000
DTSTAMP:20260425T072038
CREATED:20231215T180902Z
LAST-MODIFIED:20231215T180902Z
UID:10000060-1704621600-1704628800@srqhousechurch.com
SUMMARY:Fruitville Housechurch Service
DESCRIPTION:
URL:https://srqhousechurch.com/event/fruitville-housechurch-service-3/
LOCATION:SRQ-Fruitville Housechurch\, 1664 Georgetowne Boulevard\, Sarasota\, Florida\, 34232
CATEGORIES:Housechurch Services
ATTACH;FMTTYPE=image/jpeg:https://srqhousechurch.com/wp-content/uploads/2023/11/MKD-9320-scaled.jpg
END:VEVENT
BEGIN:VEVENT
DTSTART;TZID=America/New_York:20240107T100000
DTEND;TZID=America/New_York:20240107T120000
DTSTAMP:20260425T072038
CREATED:20231229T203544Z
LAST-MODIFIED:20231229T203544Z
UID:10000325-1704621600-1704628800@srqhousechurch.com
SUMMARY:Sarasota Housechurch Service
DESCRIPTION:
URL:https://srqhousechurch.com/event/sarasota-housechurch-service-3/
CATEGORIES:Housechurch Services
ATTACH;FMTTYPE=image/webp:https://srqhousechurch.com/wp-content/uploads/2023/09/MKD-9345.webp
END:VEVENT
BEGIN:VEVENT
DTSTART;TZID=America/New_York:20240107T100000
DTEND;TZID=America/New_York:20240107T120000
DTSTAMP:20260425T072038
CREATED:20231230T121015Z
LAST-MODIFIED:20231230T121015Z
UID:10000353-1704621600-1704628800@srqhousechurch.com
SUMMARY:Longboat Key Beach Church
DESCRIPTION:
URL:https://srqhousechurch.com/event/longboat-key-beach-church/2024-01-07/
LOCATION:SRQ-Longboat Key Beach Church\, 1281 Gulf of Mexico Dr\, Longboat Key\, FL\, 34228\, United States
CATEGORIES:Housechurch Services
ATTACH;FMTTYPE=image/png:https://srqhousechurch.com/wp-content/uploads/2023/12/LBK-Beach-Church-Photo.png
END:VEVENT
BEGIN:VEVENT
DTSTART;TZID=America/New_York:20240121T100000
DTEND;TZID=America/New_York:20240121T120000
DTSTAMP:20260425T072038
CREATED:20231215T180958Z
LAST-MODIFIED:20231215T180958Z
UID:10000061-1705831200-1705838400@srqhousechurch.com
SUMMARY:Fruitville Housechurch Service
DESCRIPTION:
URL:https://srqhousechurch.com/event/fruitville-housechurch-service-4/
LOCATION:SRQ-Fruitville Housechurch\, 1664 Georgetowne Boulevard\, Sarasota\, Florida\, 34232
CATEGORIES:Housechurch Services
ATTACH;FMTTYPE=image/jpeg:https://srqhousechurch.com/wp-content/uploads/2023/11/MKD-9320-scaled.jpg
END:VEVENT
BEGIN:VEVENT
DTSTART;TZID=America/New_York:20240121T100000
DTEND;TZID=America/New_York:20240121T120000
DTSTAMP:20260425T072038
CREATED:20231229T203820Z
LAST-MODIFIED:20240720T202813Z
UID:10000333-1705831200-1705838400@srqhousechurch.com
SUMMARY:Sarasota Housechurch Service
DESCRIPTION:
URL:https://srqhousechurch.com/event/sarasota-housechurch-service-4/2024-01-21/
CATEGORIES:Housechurch Services
ATTACH;FMTTYPE=image/webp:https://srqhousechurch.com/wp-content/uploads/2023/09/MKD-9345.webp
END:VEVENT
BEGIN:VEVENT
DTSTART;TZID=America/New_York:20240121T100000
DTEND;TZID=America/New_York:20240121T120000
DTSTAMP:20260425T072038
CREATED:20231230T121200Z
LAST-MODIFIED:20231230T121200Z
UID:10000357-1705831200-1705838400@srqhousechurch.com
SUMMARY:Longboat Key Beach Church
DESCRIPTION:
URL:https://srqhousechurch.com/event/longboat-key-beach-church-2/2024-01-21/
LOCATION:SRQ-Longboat Key Beach Church\, 1281 Gulf of Mexico Dr\, Longboat Key\, FL\, 34228\, United States
CATEGORIES:Housechurch Services
ATTACH;FMTTYPE=image/png:https://srqhousechurch.com/wp-content/uploads/2023/12/LBK-Beach-Church-Photo.png
END:VEVENT
BEGIN:VEVENT
DTSTART;TZID=America/New_York:20240211T100000
DTEND;TZID=America/New_York:20240211T120000
DTSTAMP:20260425T072038
CREATED:20231215T181104Z
LAST-MODIFIED:20231215T181104Z
UID:10000062-1707645600-1707652800@srqhousechurch.com
SUMMARY:Fruitville Housechurch Service
DESCRIPTION:
URL:https://srqhousechurch.com/event/fruitville-housechurch-service-5/
LOCATION:SRQ-Fruitville Housechurch\, 1664 Georgetowne Boulevard\, Sarasota\, Florida\, 34232
CATEGORIES:Housechurch Services
ATTACH;FMTTYPE=image/jpeg:https://srqhousechurch.com/wp-content/uploads/2023/11/MKD-9320-scaled.jpg
END:VEVENT
BEGIN:VEVENT
DTSTART;TZID=America/New_York:20240211T100000
DTEND;TZID=America/New_York:20240211T120000
DTSTAMP:20260425T072038
CREATED:20231229T203925Z
LAST-MODIFIED:20231229T203925Z
UID:10000344-1707645600-1707652800@srqhousechurch.com
SUMMARY:Sarasota Housechurch Service
DESCRIPTION:
URL:https://srqhousechurch.com/event/sarasota-housechurch-service-5/
CATEGORIES:Housechurch Services
ATTACH;FMTTYPE=image/webp:https://srqhousechurch.com/wp-content/uploads/2023/09/MKD-9345.webp
END:VEVENT
BEGIN:VEVENT
DTSTART;TZID=America/New_York:20240211T100000
DTEND;TZID=America/New_York:20240211T120000
DTSTAMP:20260425T072038
CREATED:20231230T121250Z
LAST-MODIFIED:20231230T121250Z
UID:10000361-1707645600-1707652800@srqhousechurch.com
SUMMARY:Longboat Key Beach Church
DESCRIPTION:
URL:https://srqhousechurch.com/event/longboat-key-beach-church-3/
LOCATION:SRQ-Longboat Key Beach Church\, 1281 Gulf of Mexico Dr\, Longboat Key\, FL\, 34228\, United States
CATEGORIES:Housechurch Services
ATTACH;FMTTYPE=image/png:https://srqhousechurch.com/wp-content/uploads/2023/12/LBK-Beach-Church-Photo.png
END:VEVENT
BEGIN:VEVENT
DTSTART;TZID=America/New_York:20240225T100000
DTEND;TZID=America/New_York:20240225T120000
DTSTAMP:20260425T072038
CREATED:20231215T181206Z
LAST-MODIFIED:20231215T181206Z
UID:10000063-1708855200-1708862400@srqhousechurch.com
SUMMARY:Fruitville Housechurch Service
DESCRIPTION:
URL:https://srqhousechurch.com/event/fruitville-housechurch-service-6/
LOCATION:SRQ-Fruitville Housechurch\, 1664 Georgetowne Boulevard\, Sarasota\, Florida\, 34232
CATEGORIES:Housechurch Services
ATTACH;FMTTYPE=image/jpeg:https://srqhousechurch.com/wp-content/uploads/2023/11/MKD-9320-scaled.jpg
END:VEVENT
BEGIN:VEVENT
DTSTART;TZID=America/New_York:20240225T100000
DTEND;TZID=America/New_York:20240225T120000
DTSTAMP:20260425T072038
CREATED:20231229T204024Z
LAST-MODIFIED:20231229T204024Z
UID:10000345-1708855200-1708862400@srqhousechurch.com
SUMMARY:Sarasota Housechurch Service
DESCRIPTION:
URL:https://srqhousechurch.com/event/sarasota-housechurch-service-6/
CATEGORIES:Housechurch Services
ATTACH;FMTTYPE=image/webp:https://srqhousechurch.com/wp-content/uploads/2023/09/MKD-9345.webp
END:VEVENT
BEGIN:VEVENT
DTSTART;TZID=America/New_York:20240225T100000
DTEND;TZID=America/New_York:20240225T120000
DTSTAMP:20260425T072038
CREATED:20231230T121346Z
LAST-MODIFIED:20231230T121346Z
UID:10000362-1708855200-1708862400@srqhousechurch.com
SUMMARY:Longboat Key Beach Church
DESCRIPTION:
URL:https://srqhousechurch.com/event/longboat-key-beach-church-4/
LOCATION:SRQ-Longboat Key Beach Church\, 1281 Gulf of Mexico Dr\, Longboat Key\, FL\, 34228\, United States
CATEGORIES:Housechurch Services
ATTACH;FMTTYPE=image/png:https://srqhousechurch.com/wp-content/uploads/2023/12/LBK-Beach-Church-Photo.png
END:VEVENT
BEGIN:VEVENT
DTSTART;TZID=America/New_York:20240303T100000
DTEND;TZID=America/New_York:20240303T120000
DTSTAMP:20260425T072038
CREATED:20231230T121015Z
LAST-MODIFIED:20231230T121015Z
UID:10000354-1709460000-1709467200@srqhousechurch.com
SUMMARY:Longboat Key Beach Church
DESCRIPTION:
URL:https://srqhousechurch.com/event/longboat-key-beach-church/2024-03-03/
LOCATION:SRQ-Longboat Key Beach Church\, 1281 Gulf of Mexico Dr\, Longboat Key\, FL\, 34228\, United States
CATEGORIES:Housechurch Services
ATTACH;FMTTYPE=image/png:https://srqhousechurch.com/wp-content/uploads/2023/12/LBK-Beach-Church-Photo.png
END:VEVENT
BEGIN:VEVENT
DTSTART;TZID=America/New_York:20240310T100000
DTEND;TZID=America/New_York:20240310T120000
DTSTAMP:20260425T072038
CREATED:20231215T181405Z
LAST-MODIFIED:20231215T181405Z
UID:10000065-1710064800-1710072000@srqhousechurch.com
SUMMARY:Fruitville Housechurch Service
DESCRIPTION:
URL:https://srqhousechurch.com/event/fruitville-housechurch-service-8/
LOCATION:SRQ-Fruitville Housechurch\, 1664 Georgetowne Boulevard\, Sarasota\, Florida\, 34232
CATEGORIES:Housechurch Services
ATTACH;FMTTYPE=image/jpeg:https://srqhousechurch.com/wp-content/uploads/2023/11/MKD-9320-scaled.jpg
END:VEVENT
BEGIN:VEVENT
DTSTART;TZID=America/New_York:20240310T100000
DTEND;TZID=America/New_York:20240310T120000
DTSTAMP:20260425T072038
CREATED:20231229T204126Z
LAST-MODIFIED:20231229T204126Z
UID:10000346-1710064800-1710072000@srqhousechurch.com
SUMMARY:Sarasota Housechurch Service
DESCRIPTION:
URL:https://srqhousechurch.com/event/sarasota-housechurch-service-7/
CATEGORIES:Housechurch Services
ATTACH;FMTTYPE=image/webp:https://srqhousechurch.com/wp-content/uploads/2023/09/MKD-9345.webp
END:VEVENT
BEGIN:VEVENT
DTSTART;TZID=America/New_York:20240310T100000
DTEND;TZID=America/New_York:20240310T120000
DTSTAMP:20260425T072038
CREATED:20231230T121449Z
LAST-MODIFIED:20231230T121449Z
UID:10000363-1710064800-1710072000@srqhousechurch.com
SUMMARY:Longboat Key Beach Church
DESCRIPTION:
URL:https://srqhousechurch.com/event/longboat-key-beach-church-5/
LOCATION:SRQ-Longboat Key Beach Church\, 1281 Gulf of Mexico Dr\, Longboat Key\, FL\, 34228\, United States
CATEGORIES:Housechurch Services
ATTACH;FMTTYPE=image/png:https://srqhousechurch.com/wp-content/uploads/2023/12/LBK-Beach-Church-Photo.png
END:VEVENT
BEGIN:VEVENT
DTSTART;TZID=America/New_York:20240317T100000
DTEND;TZID=America/New_York:20240317T120000
DTSTAMP:20260425T072038
CREATED:20231215T181508Z
LAST-MODIFIED:20231215T181508Z
UID:10000066-1710669600-1710676800@srqhousechurch.com
SUMMARY:Fruitville Housechurch Service
DESCRIPTION:
URL:https://srqhousechurch.com/event/fruitville-housechurch-service-9/
LOCATION:SRQ-Fruitville Housechurch\, 1664 Georgetowne Boulevard\, Sarasota\, Florida\, 34232
CATEGORIES:Housechurch Services
ATTACH;FMTTYPE=image/jpeg:https://srqhousechurch.com/wp-content/uploads/2023/11/MKD-9320-scaled.jpg
END:VEVENT
BEGIN:VEVENT
DTSTART;TZID=America/New_York:20240317T100000
DTEND;TZID=America/New_York:20240317T120000
DTSTAMP:20260425T072038
CREATED:20231229T203820Z
LAST-MODIFIED:20240720T202813Z
UID:10000334-1710669600-1710676800@srqhousechurch.com
SUMMARY:Sarasota Housechurch Service
DESCRIPTION:
URL:https://srqhousechurch.com/event/sarasota-housechurch-service-4/2024-03-17/
CATEGORIES:Housechurch Services
ATTACH;FMTTYPE=image/webp:https://srqhousechurch.com/wp-content/uploads/2023/09/MKD-9345.webp
END:VEVENT
END:VCALENDAR