BEGIN:VCALENDAR
VERSION:2.0
PRODID:-//SRQ housechurch - ECPv6.15.20//NONSGML v1.0//EN
CALSCALE:GREGORIAN
METHOD:PUBLISH
X-WR-CALNAME:SRQ housechurch
X-ORIGINAL-URL:https://srqhousechurch.com
X-WR-CALDESC:Events for SRQ housechurch
REFRESH-INTERVAL;VALUE=DURATION:PT1H
X-Robots-Tag:noindex
X-PUBLISHED-TTL:PT1H
BEGIN:VTIMEZONE
TZID:America/New_York
BEGIN:DAYLIGHT
TZOFFSETFROM:-0500
TZOFFSETTO:-0400
TZNAME:EDT
DTSTART:20230312T070000
END:DAYLIGHT
BEGIN:STANDARD
TZOFFSETFROM:-0400
TZOFFSETTO:-0500
TZNAME:EST
DTSTART:20231105T060000
END:STANDARD
BEGIN:DAYLIGHT
TZOFFSETFROM:-0500
TZOFFSETTO:-0400
TZNAME:EDT
DTSTART:20240310T070000
END:DAYLIGHT
BEGIN:STANDARD
TZOFFSETFROM:-0400
TZOFFSETTO:-0500
TZNAME:EST
DTSTART:20241103T060000
END:STANDARD
BEGIN:DAYLIGHT
TZOFFSETFROM:-0500
TZOFFSETTO:-0400
TZNAME:EDT
DTSTART:20250309T070000
END:DAYLIGHT
BEGIN:STANDARD
TZOFFSETFROM:-0400
TZOFFSETTO:-0500
TZNAME:EST
DTSTART:20251102T060000
END:STANDARD
END:VTIMEZONE
BEGIN:VEVENT
DTSTART;TZID=America/New_York:20240505T100000
DTEND;TZID=America/New_York:20240505T113000
DTSTAMP:20260423T191143
CREATED:20240428T161229Z
LAST-MODIFIED:20240428T161229Z
UID:10000376-1714903200-1714908600@srqhousechurch.com
SUMMARY:Sarasota-Turtle Creek House Church
DESCRIPTION:
URL:https://srqhousechurch.com/event/sarasota-turtle-creek-house-church/
LOCATION:SRQ-Snowfall St. Housechurch\, 8475 Snowfall Street\, Sarasota\, FL\, 34241\, United States
CATEGORIES:Housechurch Services
ATTACH;FMTTYPE=image/jpeg:https://srqhousechurch.com/wp-content/uploads/2023/11/IMG_4044-scaled.jpeg
END:VEVENT
BEGIN:VEVENT
DTSTART;TZID=America/New_York:20240505T100000
DTEND;TZID=America/New_York:20240505T120000
DTSTAMP:20260423T191143
CREATED:20231215T181811Z
LAST-MODIFIED:20231215T181811Z
UID:10000069-1714903200-1714910400@srqhousechurch.com
SUMMARY:Fruitville Housechurch Service
DESCRIPTION:
URL:https://srqhousechurch.com/event/fruitville-housechurch-service-12/
LOCATION:SRQ-Fruitville Housechurch\, 1664 Georgetowne Boulevard\, Sarasota\, Florida\, 34232
CATEGORIES:Housechurch Services
ATTACH;FMTTYPE=image/jpeg:https://srqhousechurch.com/wp-content/uploads/2023/11/MKD-9320-scaled.jpg
END:VEVENT
BEGIN:VEVENT
DTSTART;TZID=America/New_York:20240505T100000
DTEND;TZID=America/New_York:20240505T120000
DTSTAMP:20260423T191143
CREATED:20231230T121015Z
LAST-MODIFIED:20231230T121015Z
UID:10000356-1714903200-1714910400@srqhousechurch.com
SUMMARY:Longboat Key Beach Church
DESCRIPTION:
URL:https://srqhousechurch.com/event/longboat-key-beach-church/2024-05-05/
LOCATION:SRQ-Longboat Key Beach Church\, 1281 Gulf of Mexico Dr\, Longboat Key\, FL\, 34228\, United States
CATEGORIES:Housechurch Services
ATTACH;FMTTYPE=image/png:https://srqhousechurch.com/wp-content/uploads/2023/12/LBK-Beach-Church-Photo.png
END:VEVENT
BEGIN:VEVENT
DTSTART;TZID=America/New_York:20240505T100000
DTEND;TZID=America/New_York:20240505T120000
DTSTAMP:20260423T191143
CREATED:20240720T204244Z
LAST-MODIFIED:20240720T204244Z
UID:10000328-1714903200-1714910400@srqhousechurch.com
SUMMARY:Sarasota Housechurch Service
DESCRIPTION:
URL:https://srqhousechurch.com/event/sarasota-housechurch-service-18/
CATEGORIES:Housechurch Services
ATTACH;FMTTYPE=image/webp:https://srqhousechurch.com/wp-content/uploads/2023/09/MKD-9345.webp
END:VEVENT
BEGIN:VEVENT
DTSTART;TZID=America/New_York:20240519T100000
DTEND;TZID=America/New_York:20240519T120000
DTSTAMP:20260423T191143
CREATED:20231215T181909Z
LAST-MODIFIED:20231215T181909Z
UID:10000070-1716112800-1716120000@srqhousechurch.com
SUMMARY:Fruitville Housechurch Service
DESCRIPTION:
URL:https://srqhousechurch.com/event/fruitville-housechurch-service-13/
LOCATION:SRQ-Fruitville Housechurch\, 1664 Georgetowne Boulevard\, Sarasota\, Florida\, 34232
CATEGORIES:Housechurch Services
ATTACH;FMTTYPE=image/jpeg:https://srqhousechurch.com/wp-content/uploads/2023/11/MKD-9320-scaled.jpg
END:VEVENT
BEGIN:VEVENT
DTSTART;TZID=America/New_York:20240519T100000
DTEND;TZID=America/New_York:20240519T120000
DTSTAMP:20260423T191143
CREATED:20231229T203820Z
LAST-MODIFIED:20240720T202813Z
UID:10000336-1716112800-1716120000@srqhousechurch.com
SUMMARY:Sarasota Housechurch Service
DESCRIPTION:
URL:https://srqhousechurch.com/event/sarasota-housechurch-service-4/2024-05-19/
CATEGORIES:Housechurch Services
ATTACH;FMTTYPE=image/webp:https://srqhousechurch.com/wp-content/uploads/2023/09/MKD-9345.webp
END:VEVENT
BEGIN:VEVENT
DTSTART;TZID=America/New_York:20240519T100000
DTEND;TZID=America/New_York:20240519T120000
DTSTAMP:20260423T191144
CREATED:20231230T121200Z
LAST-MODIFIED:20231230T121200Z
UID:10000360-1716112800-1716120000@srqhousechurch.com
SUMMARY:Longboat Key Beach Church
DESCRIPTION:
URL:https://srqhousechurch.com/event/longboat-key-beach-church-2/2024-05-19/
LOCATION:SRQ-Longboat Key Beach Church\, 1281 Gulf of Mexico Dr\, Longboat Key\, FL\, 34228\, United States
CATEGORIES:Housechurch Services
ATTACH;FMTTYPE=image/png:https://srqhousechurch.com/wp-content/uploads/2023/12/LBK-Beach-Church-Photo.png
END:VEVENT
BEGIN:VEVENT
DTSTART;TZID=America/New_York:20240519T100000
DTEND;TZID=America/New_York:20240519T120000
DTSTAMP:20260423T191144
CREATED:20240514T130723Z
LAST-MODIFIED:20240514T130833Z
UID:10000377-1716112800-1716120000@srqhousechurch.com
SUMMARY:Sarasota- Burr Oak Housechurch
DESCRIPTION:
URL:https://srqhousechurch.com/event/sarasota-burr-oak-housechurch/
LOCATION:SRQ-Snowfall St. Housechurch\, 8475 Snowfall Street\, Sarasota\, FL\, 34241\, United States
CATEGORIES:Housechurch Services
ATTACH;FMTTYPE=image/webp:https://srqhousechurch.com/wp-content/uploads/2023/09/small-4050.webp
END:VEVENT
BEGIN:VEVENT
DTSTART;TZID=America/New_York:20240602T100000
DTEND;TZID=America/New_York:20240602T120000
DTSTAMP:20260423T191144
CREATED:20231215T182003Z
LAST-MODIFIED:20231215T182003Z
UID:10000071-1717322400-1717329600@srqhousechurch.com
SUMMARY:Fruitville Housechurch Service
DESCRIPTION:
URL:https://srqhousechurch.com/event/fruitville-housechurch-service-14/
LOCATION:SRQ-Fruitville Housechurch\, 1664 Georgetowne Boulevard\, Sarasota\, Florida\, 34232
CATEGORIES:Housechurch Services
ATTACH;FMTTYPE=image/jpeg:https://srqhousechurch.com/wp-content/uploads/2023/11/MKD-9320-scaled.jpg
END:VEVENT
BEGIN:VEVENT
DTSTART;TZID=America/New_York:20240602T100000
DTEND;TZID=America/New_York:20240602T120000
DTSTAMP:20260423T191144
CREATED:20240528T113821Z
LAST-MODIFIED:20240528T113821Z
UID:10000378-1717322400-1717329600@srqhousechurch.com
SUMMARY:SRQ- Snowfall St. Housechurch Service
DESCRIPTION:
URL:https://srqhousechurch.com/event/srq-snowfall-st-housechurch-service/
LOCATION:SRQ-Snowfall St. Housechurch\, 8475 Snowfall Street\, Sarasota\, FL\, 34241\, United States
CATEGORIES:Housechurch Services
ATTACH;FMTTYPE=image/webp:https://srqhousechurch.com/wp-content/uploads/2023/09/MKD-9313.webp
END:VEVENT
BEGIN:VEVENT
DTSTART;TZID=America/New_York:20240602T100000
DTEND;TZID=America/New_York:20240602T120000
DTSTAMP:20260423T191144
CREATED:20240720T204241Z
LAST-MODIFIED:20240720T204241Z
UID:10000329-1717322400-1717329600@srqhousechurch.com
SUMMARY:Sarasota Housechurch Service
DESCRIPTION:
URL:https://srqhousechurch.com/event/sarasota-housechurch-service-17/
CATEGORIES:Housechurch Services
ATTACH;FMTTYPE=image/webp:https://srqhousechurch.com/wp-content/uploads/2023/09/MKD-9345.webp
END:VEVENT
BEGIN:VEVENT
DTSTART;TZID=America/New_York:20240616T100000
DTEND;TZID=America/New_York:20240616T120000
DTSTAMP:20260423T191144
CREATED:20231215T182052Z
LAST-MODIFIED:20231215T182052Z
UID:10000072-1718532000-1718539200@srqhousechurch.com
SUMMARY:Fruitville Housechurch Service
DESCRIPTION:
URL:https://srqhousechurch.com/event/fruitville-housechurch-service-15/
LOCATION:SRQ-Fruitville Housechurch\, 1664 Georgetowne Boulevard\, Sarasota\, Florida\, 34232
CATEGORIES:Housechurch Services
ATTACH;FMTTYPE=image/jpeg:https://srqhousechurch.com/wp-content/uploads/2023/11/MKD-9320-scaled.jpg
END:VEVENT
BEGIN:VEVENT
DTSTART;TZID=America/New_York:20240616T100000
DTEND;TZID=America/New_York:20240616T120000
DTSTAMP:20260423T191144
CREATED:20231229T203820Z
LAST-MODIFIED:20240720T202813Z
UID:10000337-1718532000-1718539200@srqhousechurch.com
SUMMARY:Sarasota Housechurch Service
DESCRIPTION:
URL:https://srqhousechurch.com/event/sarasota-housechurch-service-4/2024-06-16/
CATEGORIES:Housechurch Services
ATTACH;FMTTYPE=image/webp:https://srqhousechurch.com/wp-content/uploads/2023/09/MKD-9345.webp
END:VEVENT
BEGIN:VEVENT
DTSTART;TZID=America/New_York:20240616T100000
DTEND;TZID=America/New_York:20240616T120000
DTSTAMP:20260423T191144
CREATED:20240612T185151Z
LAST-MODIFIED:20240612T185151Z
UID:10000379-1718532000-1718539200@srqhousechurch.com
SUMMARY:Skye Ranch Housechurch Service
DESCRIPTION:
URL:https://srqhousechurch.com/event/skye-ranch-housechurch-service/
LOCATION:SRQ-Snowfall St. Housechurch\, 8475 Snowfall Street\, Sarasota\, FL\, 34241\, United States
CATEGORIES:Housechurch Services
ATTACH;FMTTYPE=image/jpeg:https://srqhousechurch.com/wp-content/uploads/2023/11/MKD-9320-scaled.jpg
END:VEVENT
BEGIN:VEVENT
DTSTART;TZID=America/New_York:20240630T100000
DTEND;TZID=America/New_York:20240630T120000
DTSTAMP:20260423T191144
CREATED:20231215T182140Z
LAST-MODIFIED:20231215T182140Z
UID:10000073-1719741600-1719748800@srqhousechurch.com
SUMMARY:Fruitville Housechurch Service
DESCRIPTION:
URL:https://srqhousechurch.com/event/fruitville-housechurch-service-16/
LOCATION:SRQ-Fruitville Housechurch\, 1664 Georgetowne Boulevard\, Sarasota\, Florida\, 34232
CATEGORIES:Housechurch Services
ATTACH;FMTTYPE=image/jpeg:https://srqhousechurch.com/wp-content/uploads/2023/11/MKD-9320-scaled.jpg
END:VEVENT
BEGIN:VEVENT
DTSTART;TZID=America/New_York:20240630T100000
DTEND;TZID=America/New_York:20240630T120000
DTSTAMP:20260423T191144
CREATED:20231229T204245Z
LAST-MODIFIED:20231229T204245Z
UID:10000347-1719741600-1719748800@srqhousechurch.com
SUMMARY:Sarasota Housechurch Service
DESCRIPTION:
URL:https://srqhousechurch.com/event/sarasota-housechurch-service-8/
CATEGORIES:Housechurch Services
ATTACH;FMTTYPE=image/webp:https://srqhousechurch.com/wp-content/uploads/2023/09/MKD-9345.webp
END:VEVENT
BEGIN:VEVENT
DTSTART;TZID=America/New_York:20240630T100000
DTEND;TZID=America/New_York:20240630T120000
DTSTAMP:20260423T191144
CREATED:20240628T202919Z
LAST-MODIFIED:20240628T202919Z
UID:10000380-1719741600-1719748800@srqhousechurch.com
SUMMARY:Skye Ranch Housechurch Service
DESCRIPTION:
URL:https://srqhousechurch.com/event/skye-ranch-housechurch-service-2/
LOCATION:SRQ-Snowfall St. Housechurch\, 8475 Snowfall Street\, Sarasota\, FL\, 34241\, United States
CATEGORIES:Housechurch Services
ATTACH;FMTTYPE=image/jpeg:https://srqhousechurch.com/wp-content/uploads/2023/09/footer-9103.jpg
END:VEVENT
BEGIN:VEVENT
DTSTART;TZID=America/New_York:20240714T100000
DTEND;TZID=America/New_York:20240714T120000
DTSTAMP:20260423T191144
CREATED:20231215T182240Z
LAST-MODIFIED:20231215T182240Z
UID:10000074-1720951200-1720958400@srqhousechurch.com
SUMMARY:Fruitville Housechurch Service
DESCRIPTION:
URL:https://srqhousechurch.com/event/fruitville-housechurch-service-17/
LOCATION:SRQ-Fruitville Housechurch\, 1664 Georgetowne Boulevard\, Sarasota\, Florida\, 34232
CATEGORIES:Housechurch Services
ATTACH;FMTTYPE=image/jpeg:https://srqhousechurch.com/wp-content/uploads/2023/11/MKD-9320-scaled.jpg
END:VEVENT
BEGIN:VEVENT
DTSTART;TZID=America/New_York:20240714T100000
DTEND;TZID=America/New_York:20240714T120000
DTSTAMP:20260423T191144
CREATED:20231229T204352Z
LAST-MODIFIED:20240711T174540Z
UID:10000348-1720951200-1720958400@srqhousechurch.com
SUMMARY:Sarasota Housechurch Service
DESCRIPTION:
URL:https://srqhousechurch.com/event/sarasota-housechurch-service-9/
CATEGORIES:Housechurch Services
ATTACH;FMTTYPE=image/webp:https://srqhousechurch.com/wp-content/uploads/2023/09/MKD-9345.webp
END:VEVENT
BEGIN:VEVENT
DTSTART;TZID=America/New_York:20240721T100000
DTEND;TZID=America/New_York:20240721T120000
DTSTAMP:20260423T191144
CREATED:20231215T182323Z
LAST-MODIFIED:20231215T182323Z
UID:10000075-1721556000-1721563200@srqhousechurch.com
SUMMARY:Fruitville Housechurch Service
DESCRIPTION:
URL:https://srqhousechurch.com/event/fruitville-housechurch-service-18/
LOCATION:SRQ-Fruitville Housechurch\, 1664 Georgetowne Boulevard\, Sarasota\, Florida\, 34232
CATEGORIES:Housechurch Services
ATTACH;FMTTYPE=image/jpeg:https://srqhousechurch.com/wp-content/uploads/2023/11/MKD-9320-scaled.jpg
END:VEVENT
BEGIN:VEVENT
DTSTART;TZID=America/New_York:20240721T100000
DTEND;TZID=America/New_York:20240721T120000
DTSTAMP:20260423T191144
CREATED:20240720T204432Z
LAST-MODIFIED:20240720T204525Z
UID:10000381-1721556000-1721563200@srqhousechurch.com
SUMMARY:Skye Ranch & Sarasota Housechurch Service
DESCRIPTION:
URL:https://srqhousechurch.com/event/skye-ranch-sarasota-housechurch-service/
LOCATION:SRQ-Snowfall St. Housechurch\, 8475 Snowfall Street\, Sarasota\, FL\, 34241\, United States
CATEGORIES:Housechurch Services
ATTACH;FMTTYPE=image/jpeg:https://srqhousechurch.com/wp-content/uploads/2023/09/footer-9103.jpg
END:VEVENT
BEGIN:VEVENT
DTSTART;TZID=America/New_York:20240818T100000
DTEND;TZID=America/New_York:20240818T120000
DTSTAMP:20260423T191144
CREATED:20231215T182504Z
LAST-MODIFIED:20231215T182504Z
UID:10000077-1723975200-1723982400@srqhousechurch.com
SUMMARY:Fruitville Housechurch Service
DESCRIPTION:
URL:https://srqhousechurch.com/event/fruitville-housechurch-service-20/
LOCATION:SRQ-Fruitville Housechurch\, 1664 Georgetowne Boulevard\, Sarasota\, Florida\, 34232
CATEGORIES:Housechurch Services
ATTACH;FMTTYPE=image/jpeg:https://srqhousechurch.com/wp-content/uploads/2023/11/MKD-9320-scaled.jpg
END:VEVENT
BEGIN:VEVENT
DTSTART;TZID=America/New_York:20240818T100000
DTEND;TZID=America/New_York:20240818T120000
DTSTAMP:20260423T191144
CREATED:20231229T203820Z
LAST-MODIFIED:20240720T202813Z
UID:10000339-1723975200-1723982400@srqhousechurch.com
SUMMARY:Sarasota Housechurch Service
DESCRIPTION:
URL:https://srqhousechurch.com/event/sarasota-housechurch-service-4/2024-08-18/
CATEGORIES:Housechurch Services
ATTACH;FMTTYPE=image/webp:https://srqhousechurch.com/wp-content/uploads/2023/09/MKD-9345.webp
END:VEVENT
BEGIN:VEVENT
DTSTART;TZID=America/New_York:20240818T100000
DTEND;TZID=America/New_York:20240818T120000
DTSTAMP:20260423T191144
CREATED:20240812T223416Z
LAST-MODIFIED:20240817T131705Z
UID:10000383-1723975200-1723982400@srqhousechurch.com
SUMMARY:Turtle Creek Housechurch Service
DESCRIPTION:
URL:https://srqhousechurch.com/event/skye-ranch-housechurch-service-3/
LOCATION:SRQ-Turtle Creek Ln. House Church\, 5200 Turtle Creek Lane\, Sarasota\, Florida\, 34242\, United States
CATEGORIES:Housechurch Services
ATTACH;FMTTYPE=image/jpeg:https://srqhousechurch.com/wp-content/uploads/2023/11/MKD-9320-scaled.jpg
END:VEVENT
BEGIN:VEVENT
DTSTART;TZID=America/New_York:20240915T100000
DTEND;TZID=America/New_York:20240915T120000
DTSTAMP:20260423T191144
CREATED:20231229T203820Z
LAST-MODIFIED:20240720T202813Z
UID:10000340-1726394400-1726401600@srqhousechurch.com
SUMMARY:Sarasota Housechurch Service
DESCRIPTION:
URL:https://srqhousechurch.com/event/sarasota-housechurch-service-4/2024-09-15/
CATEGORIES:Housechurch Services
ATTACH;FMTTYPE=image/webp:https://srqhousechurch.com/wp-content/uploads/2023/09/MKD-9345.webp
END:VEVENT
BEGIN:VEVENT
DTSTART;TZID=America/New_York:20240922T100000
DTEND;TZID=America/New_York:20240922T120000
DTSTAMP:20260423T191144
CREATED:20231215T182721Z
LAST-MODIFIED:20231215T182721Z
UID:10000079-1726999200-1727006400@srqhousechurch.com
SUMMARY:Fruitville Housechurch Service
DESCRIPTION:
URL:https://srqhousechurch.com/event/fruitville-housechurch-service-22/
LOCATION:SRQ-Fruitville Housechurch\, 1664 Georgetowne Boulevard\, Sarasota\, Florida\, 34232
CATEGORIES:Housechurch Services
ATTACH;FMTTYPE=image/jpeg:https://srqhousechurch.com/wp-content/uploads/2023/11/MKD-9320-scaled.jpg
END:VEVENT
BEGIN:VEVENT
DTSTART;TZID=America/New_York:20240922T100000
DTEND;TZID=America/New_York:20240922T120000
DTSTAMP:20260423T191144
CREATED:20231229T204505Z
LAST-MODIFIED:20231229T204505Z
UID:10000349-1726999200-1727006400@srqhousechurch.com
SUMMARY:Sarasota Housechurch Service
DESCRIPTION:
URL:https://srqhousechurch.com/event/sarasota-housechurch-service-10/
CATEGORIES:Housechurch Services
ATTACH;FMTTYPE=image/webp:https://srqhousechurch.com/wp-content/uploads/2023/09/MKD-9345.webp
END:VEVENT
BEGIN:VEVENT
DTSTART;TZID=America/New_York:20240922T100000
DTEND;TZID=America/New_York:20240922T120000
DTSTAMP:20260423T191144
CREATED:20240918T141803Z
LAST-MODIFIED:20240918T141803Z
UID:10000385-1726999200-1727006400@srqhousechurch.com
SUMMARY:Skye Ranch Housechurch Service
DESCRIPTION:
URL:https://srqhousechurch.com/event/skye-ranch-housechurch-service-4/
LOCATION:SRQ-Snowfall St. Housechurch\, 8475 Snowfall Street\, Sarasota\, FL\, 34241\, United States
CATEGORIES:Housechurch Services
ATTACH;FMTTYPE=image/jpeg:https://srqhousechurch.com/wp-content/uploads/2023/09/footer-9103.jpg
END:VEVENT
BEGIN:VEVENT
DTSTART;TZID=America/New_York:20240929T100000
DTEND;TZID=America/New_York:20240929T120000
DTSTAMP:20260423T191144
CREATED:20231215T182807Z
LAST-MODIFIED:20231215T182807Z
UID:10000080-1727604000-1727611200@srqhousechurch.com
SUMMARY:Fruitville Housechurch Service
DESCRIPTION:
URL:https://srqhousechurch.com/event/fruitville-housechurch-service-23/
LOCATION:SRQ-Fruitville Housechurch\, 1664 Georgetowne Boulevard\, Sarasota\, Florida\, 34232
CATEGORIES:Housechurch Services
ATTACH;FMTTYPE=image/jpeg:https://srqhousechurch.com/wp-content/uploads/2023/11/MKD-9320-scaled.jpg
END:VEVENT
BEGIN:VEVENT
DTSTART;TZID=America/New_York:20240929T100000
DTEND;TZID=America/New_York:20240929T120000
DTSTAMP:20260423T191144
CREATED:20231229T204606Z
LAST-MODIFIED:20231229T204606Z
UID:10000350-1727604000-1727611200@srqhousechurch.com
SUMMARY:Sarasota Housechurch Service
DESCRIPTION:
URL:https://srqhousechurch.com/event/sarasota-housechurch-service-11/
CATEGORIES:Housechurch Services
ATTACH;FMTTYPE=image/webp:https://srqhousechurch.com/wp-content/uploads/2023/09/MKD-9345.webp
END:VEVENT
END:VCALENDAR