BEGIN:VCALENDAR
VERSION:2.0
PRODID:-//SRQ housechurch - ECPv6.15.20//NONSGML v1.0//EN
CALSCALE:GREGORIAN
METHOD:PUBLISH
X-WR-CALNAME:SRQ housechurch
X-ORIGINAL-URL:https://srqhousechurch.com
X-WR-CALDESC:Events for SRQ housechurch
REFRESH-INTERVAL;VALUE=DURATION:PT1H
X-Robots-Tag:noindex
X-PUBLISHED-TTL:PT1H
BEGIN:VTIMEZONE
TZID:America/New_York
BEGIN:DAYLIGHT
TZOFFSETFROM:-0500
TZOFFSETTO:-0400
TZNAME:EDT
DTSTART:20230312T070000
END:DAYLIGHT
BEGIN:STANDARD
TZOFFSETFROM:-0400
TZOFFSETTO:-0500
TZNAME:EST
DTSTART:20231105T060000
END:STANDARD
BEGIN:DAYLIGHT
TZOFFSETFROM:-0500
TZOFFSETTO:-0400
TZNAME:EDT
DTSTART:20240310T070000
END:DAYLIGHT
BEGIN:STANDARD
TZOFFSETFROM:-0400
TZOFFSETTO:-0500
TZNAME:EST
DTSTART:20241103T060000
END:STANDARD
BEGIN:DAYLIGHT
TZOFFSETFROM:-0500
TZOFFSETTO:-0400
TZNAME:EDT
DTSTART:20250309T070000
END:DAYLIGHT
BEGIN:STANDARD
TZOFFSETFROM:-0400
TZOFFSETTO:-0500
TZNAME:EST
DTSTART:20251102T060000
END:STANDARD
BEGIN:DAYLIGHT
TZOFFSETFROM:-0500
TZOFFSETTO:-0400
TZNAME:EDT
DTSTART:20260308T070000
END:DAYLIGHT
BEGIN:STANDARD
TZOFFSETFROM:-0400
TZOFFSETTO:-0500
TZNAME:EST
DTSTART:20261101T060000
END:STANDARD
END:VTIMEZONE
BEGIN:VEVENT
DTSTART;TZID=America/New_York:20241201T100000
DTEND;TZID=America/New_York:20241201T120000
DTSTAMP:20260422T182611
CREATED:20241128T154019Z
LAST-MODIFIED:20241128T154019Z
UID:10000396-1733047200-1733054400@srqhousechurch.com
SUMMARY:No Housechurch Services
DESCRIPTION:
URL:https://srqhousechurch.com/event/no-housechurch-services/
CATEGORIES:Housechurch Services
END:VEVENT
BEGIN:VEVENT
DTSTART;TZID=America/New_York:20241215T100000
DTEND;TZID=America/New_York:20241215T120000
DTSTAMP:20260422T182611
CREATED:20231215T183348Z
LAST-MODIFIED:20240528T114114Z
UID:10000086-1734256800-1734264000@srqhousechurch.com
SUMMARY:SRQ- Fruitville Housechurch Service
DESCRIPTION:
URL:https://srqhousechurch.com/event/fruitville-housechurch-service-29/
LOCATION:SRQ-Fruitville Housechurch\, 1664 Georgetowne Boulevard\, Sarasota\, Florida\, 34232
CATEGORIES:Housechurch Services
ATTACH;FMTTYPE=image/jpeg:https://srqhousechurch.com/wp-content/uploads/2023/11/MKD-9320-scaled.jpg
END:VEVENT
BEGIN:VEVENT
DTSTART;TZID=America/New_York:20241215T100000
DTEND;TZID=America/New_York:20241215T120000
DTSTAMP:20260422T182611
CREATED:20231229T203820Z
LAST-MODIFIED:20240720T202813Z
UID:10000343-1734256800-1734264000@srqhousechurch.com
SUMMARY:Sarasota Housechurch Service
DESCRIPTION:
URL:https://srqhousechurch.com/event/sarasota-housechurch-service-4/2024-12-15/
CATEGORIES:Housechurch Services
ATTACH;FMTTYPE=image/webp:https://srqhousechurch.com/wp-content/uploads/2023/09/MKD-9345.webp
END:VEVENT
BEGIN:VEVENT
DTSTART;TZID=America/New_York:20241215T100000
DTEND;TZID=America/New_York:20241215T120000
DTSTAMP:20260422T182611
CREATED:20241213T145247Z
LAST-MODIFIED:20241213T145247Z
UID:10000397-1734256800-1734264000@srqhousechurch.com
SUMMARY:Skye Ranch Housechurch Service
DESCRIPTION:
URL:https://srqhousechurch.com/event/skye-ranch-housechurch-service-9/
LOCATION:2550 W. Burr Oak Ct. Sarasota\, FL. 34232
CATEGORIES:Housechurch Services
ATTACH;FMTTYPE=image/jpeg:https://srqhousechurch.com/wp-content/uploads/2023/11/MKD-9320-scaled.jpg
END:VEVENT
BEGIN:VEVENT
DTSTART;TZID=America/New_York:20241215T100000
DTEND;TZID=America/New_York:20241215T120000
DTSTAMP:20260422T182611
CREATED:20241213T203350Z
LAST-MODIFIED:20241213T203350Z
UID:10000398-1734256800-1734264000@srqhousechurch.com
SUMMARY:Longboat Key Beach Church
DESCRIPTION:
URL:https://srqhousechurch.com/event/longboat-key-beach-church-7/
LOCATION:SRQ-Longboat Key Beach Church\, 1281 Gulf of Mexico Dr\, Longboat Key\, FL\, 34228\, United States
CATEGORIES:Housechurch Services
ATTACH;FMTTYPE=image/jpeg:https://srqhousechurch.com/wp-content/uploads/2023/09/footer-main-1420.jpg
END:VEVENT
BEGIN:VEVENT
DTSTART;TZID=America/New_York:20241229T100000
DTEND;TZID=America/New_York:20241229T120000
DTSTAMP:20260422T182611
CREATED:20231215T183447Z
LAST-MODIFIED:20240528T114048Z
UID:10000087-1735466400-1735473600@srqhousechurch.com
SUMMARY:SRQ-Fruitville Housechurch Service
DESCRIPTION:
URL:https://srqhousechurch.com/event/fruitville-housechurch-service-30/
LOCATION:SRQ-Fruitville Housechurch\, 1664 Georgetowne Boulevard\, Sarasota\, Florida\, 34232
CATEGORIES:Housechurch Services
ATTACH;FMTTYPE=image/jpeg:https://srqhousechurch.com/wp-content/uploads/2023/11/MKD-9320-scaled.jpg
END:VEVENT
BEGIN:VEVENT
DTSTART;TZID=America/New_York:20241229T100000
DTEND;TZID=America/New_York:20241229T120000
DTSTAMP:20260422T182611
CREATED:20231229T204842Z
LAST-MODIFIED:20241229T001459Z
UID:10000352-1735466400-1735473600@srqhousechurch.com
SUMMARY:SRQ- Bee Ridge Housechurch Service
DESCRIPTION:
URL:https://srqhousechurch.com/event/sarasota-housechurch-service-13/
LOCATION:2550 W. Burr Oak Ct. Sarasota\, FL. 34232
CATEGORIES:Housechurch Services
ATTACH;FMTTYPE=image/webp:https://srqhousechurch.com/wp-content/uploads/2023/09/MKD-9345.webp
END:VEVENT
BEGIN:VEVENT
DTSTART;TZID=America/New_York:20241229T100000
DTEND;TZID=America/New_York:20241229T120000
DTSTAMP:20260422T182611
CREATED:20241222T004310Z
LAST-MODIFIED:20241222T004310Z
UID:10000400-1735466400-1735473600@srqhousechurch.com
SUMMARY:SRQ-Clark Housechurch Service
DESCRIPTION:
URL:https://srqhousechurch.com/event/srq-clark-housechurch-service/
LOCATION:SRQ-Snowfall St. Housechurch\, 8475 Snowfall Street\, Sarasota\, FL\, 34241\, United States
CATEGORIES:Housechurch Services
ATTACH;FMTTYPE=image/jpeg:https://srqhousechurch.com/wp-content/uploads/2023/09/footer-9103.jpg
END:VEVENT
BEGIN:VEVENT
DTSTART;TZID=America/New_York:20250105T100000
DTEND;TZID=America/New_York:20250105T120000
DTSTAMP:20260422T182611
CREATED:20250103T143637Z
LAST-MODIFIED:20250103T143637Z
UID:10000401-1736071200-1736078400@srqhousechurch.com
SUMMARY:Longboat Key Beach Church
DESCRIPTION:
URL:https://srqhousechurch.com/event/longboat-key-beach-church-8/
LOCATION:SRQ-Longboat Key Beach Church\, 1281 Gulf of Mexico Dr\, Longboat Key\, FL\, 34228\, United States
CATEGORIES:Housechurch Services
ATTACH;FMTTYPE=image/png:https://srqhousechurch.com/wp-content/uploads/2023/12/LBK-Beach-Church-Photo.png
END:VEVENT
BEGIN:VEVENT
DTSTART;TZID=America/New_York:20250105T100000
DTEND;TZID=America/New_York:20250105T120000
DTSTAMP:20260422T182611
CREATED:20250103T143732Z
LAST-MODIFIED:20250103T143732Z
UID:10000402-1736071200-1736078400@srqhousechurch.com
SUMMARY:SRQ-Fruitville Housechurch Service
DESCRIPTION:
URL:https://srqhousechurch.com/event/srq-fruitville-housechurch-service/
LOCATION:SRQ-Fruitville Housechurch\, 1664 Georgetowne Boulevard\, Sarasota\, Florida\, 34232
CATEGORIES:Housechurch Services
ATTACH;FMTTYPE=image/webp:https://srqhousechurch.com/wp-content/uploads/2023/09/MKD-9313.webp
END:VEVENT
BEGIN:VEVENT
DTSTART;TZID=America/New_York:20250105T100000
DTEND;TZID=America/New_York:20250105T120000
DTSTAMP:20260422T182611
CREATED:20250103T143825Z
LAST-MODIFIED:20250103T143825Z
UID:10000403-1736071200-1736078400@srqhousechurch.com
SUMMARY:SRQ-Skye Ranch Housechurch Service
DESCRIPTION:
URL:https://srqhousechurch.com/event/srq-skye-ranch-housechurch-service/
LOCATION:SRQ-Snowfall St. Housechurch\, 8475 Snowfall Street\, Sarasota\, FL\, 34241\, United States
CATEGORIES:Housechurch Services
ATTACH;FMTTYPE=image/jpeg:https://srqhousechurch.com/wp-content/uploads/2023/09/MKD-9103-2.jpg
END:VEVENT
BEGIN:VEVENT
DTSTART;TZID=America/New_York:20250105T100000
DTEND;TZID=America/New_York:20250105T120000
DTSTAMP:20260422T182611
CREATED:20250103T144036Z
LAST-MODIFIED:20250103T144036Z
UID:10000404-1736071200-1736078400@srqhousechurch.com
SUMMARY:SRQ-Bee Ridge Housechurch Service
DESCRIPTION:
URL:https://srqhousechurch.com/event/srq-bee-ridge-housechurch-service/
LOCATION:SRQ- Bee Ridge/Clark Rd. Housechurch\, 8796 Winter Breeze Way\, Sarasota\, FL\, 34241\, United States
CATEGORIES:Housechurch Services
ATTACH;FMTTYPE=image/jpeg:https://srqhousechurch.com/wp-content/uploads/2023/11/MKD-9320-scaled.jpg
END:VEVENT
BEGIN:VEVENT
DTSTART;TZID=America/New_York:20250119T100000
DTEND;TZID=America/New_York:20250119T120000
DTSTAMP:20260422T182611
CREATED:20250112T112029Z
LAST-MODIFIED:20250112T112029Z
UID:10000406-1737280800-1737288000@srqhousechurch.com
SUMMARY:Longboat Key Beach Church
DESCRIPTION:
URL:https://srqhousechurch.com/event/longboat-key-beach-church-9/
LOCATION:SRQ-Longboat Key Beach Church\, 1281 Gulf of Mexico Dr\, Longboat Key\, FL\, 34228\, United States
CATEGORIES:Housechurch Services
END:VEVENT
BEGIN:VEVENT
DTSTART;TZID=America/New_York:20250119T100000
DTEND;TZID=America/New_York:20250119T120000
DTSTAMP:20260422T182611
CREATED:20250112T112142Z
LAST-MODIFIED:20250112T112142Z
UID:10000407-1737280800-1737288000@srqhousechurch.com
SUMMARY:Fruitville House Church
DESCRIPTION:
URL:https://srqhousechurch.com/event/fruitville-house-church/
LOCATION:SRQ-Fruitville Housechurch\, 1664 Georgetowne Boulevard\, Sarasota\, Florida\, 34232
CATEGORIES:Housechurch Services
ATTACH;FMTTYPE=image/jpeg:https://srqhousechurch.com/wp-content/uploads/2023/11/IMG_4044-scaled.jpeg
END:VEVENT
BEGIN:VEVENT
DTSTART;TZID=America/New_York:20250119T100000
DTEND;TZID=America/New_York:20250119T120000
DTSTAMP:20260422T182611
CREATED:20250112T112230Z
LAST-MODIFIED:20250112T112230Z
UID:10000408-1737280800-1737288000@srqhousechurch.com
SUMMARY:Skye Ranch House Church
DESCRIPTION:
URL:https://srqhousechurch.com/event/skye-ranch-house-church/
LOCATION:SRQ-Snowfall St. Housechurch\, 8475 Snowfall Street\, Sarasota\, FL\, 34241\, United States
CATEGORIES:Housechurch Services
ATTACH;FMTTYPE=image/jpeg:https://srqhousechurch.com/wp-content/uploads/2023/09/footer-9103.jpg
END:VEVENT
BEGIN:VEVENT
DTSTART;TZID=America/New_York:20250119T100000
DTEND;TZID=America/New_York:20250119T120000
DTSTAMP:20260422T182611
CREATED:20250112T112405Z
LAST-MODIFIED:20250112T112405Z
UID:10000409-1737280800-1737288000@srqhousechurch.com
SUMMARY:Bee Ridge House Church
DESCRIPTION:
URL:https://srqhousechurch.com/event/bee-ridge-house-church/
CATEGORIES:Housechurch Services
ATTACH;FMTTYPE=image/webp:https://srqhousechurch.com/wp-content/uploads/2023/09/MKD-9345.webp
END:VEVENT
BEGIN:VEVENT
DTSTART;TZID=America/New_York:20250202T100000
DTEND;TZID=America/New_York:20250202T120000
DTSTAMP:20260422T182611
CREATED:20250129T210901Z
LAST-MODIFIED:20250129T210901Z
UID:10000412-1738490400-1738497600@srqhousechurch.com
SUMMARY:Skye Ranch Housechurch Service
DESCRIPTION:
URL:https://srqhousechurch.com/event/skye-ranch-housechurch-service-10/
LOCATION:SRQ-Snowfall St. Housechurch\, 8475 Snowfall Street\, Sarasota\, FL\, 34241\, United States
CATEGORIES:Housechurch Services
ATTACH;FMTTYPE=image/jpeg:https://srqhousechurch.com/wp-content/uploads/2023/09/footer-9103.jpg
END:VEVENT
BEGIN:VEVENT
DTSTART;TZID=America/New_York:20250202T100000
DTEND;TZID=America/New_York:20250202T120000
DTSTAMP:20260422T182611
CREATED:20250129T210947Z
LAST-MODIFIED:20250129T210947Z
UID:10000413-1738490400-1738497600@srqhousechurch.com
SUMMARY:Longboat Key Beach Church Service
DESCRIPTION:
URL:https://srqhousechurch.com/event/longboat-key-beach-church-service/
LOCATION:SRQ-Longboat Key Beach Church\, 1281 Gulf of Mexico Dr\, Longboat Key\, FL\, 34228\, United States
CATEGORIES:Housechurch Services
ATTACH;FMTTYPE=image/png:https://srqhousechurch.com/wp-content/uploads/2023/12/LBK-Beach-Church-Photo.png
END:VEVENT
BEGIN:VEVENT
DTSTART;TZID=America/New_York:20250202T100000
DTEND;TZID=America/New_York:20250202T120000
DTSTAMP:20260422T182611
CREATED:20250129T211040Z
LAST-MODIFIED:20250129T211040Z
UID:10000414-1738490400-1738497600@srqhousechurch.com
SUMMARY:Fruitville Housechurch Service
DESCRIPTION:
URL:https://srqhousechurch.com/event/fruitville-housechurch-service-7/
LOCATION:SRQ-Fruitville Housechurch\, 1664 Georgetowne Boulevard\, Sarasota\, Florida\, 34232
CATEGORIES:Housechurch Services
ATTACH;FMTTYPE=image/webp:https://srqhousechurch.com/wp-content/uploads/2023/09/MKD-9313.webp
END:VEVENT
BEGIN:VEVENT
DTSTART;TZID=America/New_York:20250202T100000
DTEND;TZID=America/New_York:20250202T120000
DTSTAMP:20260422T182611
CREATED:20250129T211151Z
LAST-MODIFIED:20250129T211151Z
UID:10000415-1738490400-1738497600@srqhousechurch.com
SUMMARY:Clark Housechurch Service
DESCRIPTION:
URL:https://srqhousechurch.com/event/clark-housechurch-service/
LOCATION:SRQ- Bee Ridge/Clark Rd. Housechurch\, 8796 Winter Breeze Way\, Sarasota\, FL\, 34241\, United States
CATEGORIES:Housechurch Services
ATTACH;FMTTYPE=image/webp:https://srqhousechurch.com/wp-content/uploads/2023/09/small-4050.webp
END:VEVENT
BEGIN:VEVENT
DTSTART;TZID=America/New_York:20250223T100000
DTEND;TZID=America/New_York:20250223T120000
DTSTAMP:20260422T182611
CREATED:20250129T212137Z
LAST-MODIFIED:20250129T212137Z
UID:10000464-1740304800-1740312000@srqhousechurch.com
SUMMARY:Skye Ranch Housechurch Service
DESCRIPTION:
URL:https://srqhousechurch.com/event/skye-ranch-housechurch-service-11/
LOCATION:SRQ-Snowfall St. Housechurch\, 8475 Snowfall Street\, Sarasota\, FL\, 34241\, United States
CATEGORIES:Housechurch Services
ATTACH;FMTTYPE=image/jpeg:https://srqhousechurch.com/wp-content/uploads/2023/09/footer-9103.jpg
END:VEVENT
BEGIN:VEVENT
DTSTART;TZID=America/New_York:20250223T100000
DTEND;TZID=America/New_York:20250223T120000
DTSTAMP:20260422T182611
CREATED:20250129T212255Z
LAST-MODIFIED:20250129T212312Z
UID:10000465-1740304800-1740312000@srqhousechurch.com
SUMMARY:Fruitville Housechurch Service
DESCRIPTION:
URL:https://srqhousechurch.com/event/fruitville-housechurch-service-19/
LOCATION:SRQ-Fruitville Housechurch\, 1664 Georgetowne Boulevard\, Sarasota\, Florida\, 34232
CATEGORIES:Housechurch Services
ATTACH;FMTTYPE=image/webp:https://srqhousechurch.com/wp-content/uploads/2023/09/MKD-9313.webp
END:VEVENT
BEGIN:VEVENT
DTSTART;TZID=America/New_York:20250223T100000
DTEND;TZID=America/New_York:20250223T120000
DTSTAMP:20260422T182611
CREATED:20250129T212523Z
LAST-MODIFIED:20250129T212523Z
UID:10000466-1740304800-1740312000@srqhousechurch.com
SUMMARY:Clark Housechurch Service
DESCRIPTION:
URL:https://srqhousechurch.com/event/clark-housechurch-service-2/
LOCATION:SRQ- Bee Ridge/Clark Rd. Housechurch\, 8796 Winter Breeze Way\, Sarasota\, FL\, 34241\, United States
CATEGORIES:Housechurch Services
ATTACH;FMTTYPE=image/webp:https://srqhousechurch.com/wp-content/uploads/2023/09/MKD-9327.webp
END:VEVENT
BEGIN:VEVENT
DTSTART;TZID=America/New_York:20250223T100000
DTEND;TZID=America/New_York:20250223T120000
DTSTAMP:20260422T182611
CREATED:20250129T212710Z
LAST-MODIFIED:20250129T212710Z
UID:10000467-1740304800-1740312000@srqhousechurch.com
SUMMARY:Longboat Key Beach Church
DESCRIPTION:
URL:https://srqhousechurch.com/event/longboat-key-beach-church-10/
LOCATION:SRQ-Longboat Key Beach Church\, 1281 Gulf of Mexico Dr\, Longboat Key\, FL\, 34228\, United States
CATEGORIES:Housechurch Services
ATTACH;FMTTYPE=image/jpeg:https://srqhousechurch.com/wp-content/uploads/2023/11/LBK-Beach-Church-scaled.jpg
END:VEVENT
BEGIN:VEVENT
DTSTART;TZID=America/New_York:20250302T100000
DTEND;TZID=America/New_York:20250302T120000
DTSTAMP:20260422T182611
CREATED:20250130T165822Z
LAST-MODIFIED:20250130T165822Z
UID:10000490-1740909600-1740916800@srqhousechurch.com
SUMMARY:Skye Ranch Housechurch Service
DESCRIPTION:
URL:https://srqhousechurch.com/event/skye-ranch-housechurch-service-12/
LOCATION:SRQ-Snowfall St. Housechurch\, 8475 Snowfall Street\, Sarasota\, FL\, 34241\, United States
CATEGORIES:Housechurch Services
ATTACH;FMTTYPE=image/jpeg:https://srqhousechurch.com/wp-content/uploads/2023/11/MKD-9320-scaled.jpg
END:VEVENT
BEGIN:VEVENT
DTSTART;TZID=America/New_York:20250302T100000
DTEND;TZID=America/New_York:20250302T120000
DTSTAMP:20260422T182611
CREATED:20250130T165901Z
LAST-MODIFIED:20250130T165901Z
UID:10000491-1740909600-1740916800@srqhousechurch.com
SUMMARY:Longboat Key Beach Church
DESCRIPTION:
URL:https://srqhousechurch.com/event/longboat-key-beach-church-11/
LOCATION:SRQ-Longboat Key Beach Church\, 1281 Gulf of Mexico Dr\, Longboat Key\, FL\, 34228\, United States
CATEGORIES:Housechurch Services
ATTACH;FMTTYPE=image/png:https://srqhousechurch.com/wp-content/uploads/2023/12/LBK-Beach-Church-Photo.png
END:VEVENT
BEGIN:VEVENT
DTSTART;TZID=America/New_York:20250302T100000
DTEND;TZID=America/New_York:20250302T120000
DTSTAMP:20260422T182611
CREATED:20250130T165950Z
LAST-MODIFIED:20250130T165950Z
UID:10000492-1740909600-1740916800@srqhousechurch.com
SUMMARY:Fruitville Housechurch Service
DESCRIPTION:
URL:https://srqhousechurch.com/event/fruitville-housechurch-service-21/
LOCATION:SRQ-Fruitville Housechurch\, 1664 Georgetowne Boulevard\, Sarasota\, Florida\, 34232
CATEGORIES:Housechurch Services
ATTACH;FMTTYPE=image/webp:https://srqhousechurch.com/wp-content/uploads/2023/09/MKD-9313.webp
END:VEVENT
BEGIN:VEVENT
DTSTART;TZID=America/New_York:20250302T100000
DTEND;TZID=America/New_York:20250302T120000
DTSTAMP:20260422T182611
CREATED:20250130T170046Z
LAST-MODIFIED:20250130T170046Z
UID:10000493-1740909600-1740916800@srqhousechurch.com
SUMMARY:Clark Housechurch Service
DESCRIPTION:
URL:https://srqhousechurch.com/event/clark-housechurch-service-3/
LOCATION:SRQ- Bee Ridge/Clark Rd. Housechurch\, 8796 Winter Breeze Way\, Sarasota\, FL\, 34241\, United States
CATEGORIES:Housechurch Services
ATTACH;FMTTYPE=image/webp:https://srqhousechurch.com/wp-content/uploads/2023/09/MKD-9327.webp
END:VEVENT
BEGIN:VEVENT
DTSTART;TZID=America/New_York:20250316T100000
DTEND;TZID=America/New_York:20250316T120000
DTSTAMP:20260422T182611
CREATED:20250228T145627Z
LAST-MODIFIED:20250228T145627Z
UID:10000494-1742119200-1742126400@srqhousechurch.com
SUMMARY:Clark Housechurch Service
DESCRIPTION:
URL:https://srqhousechurch.com/event/clark-housechurch-service-4/
LOCATION:SRQ- Bee Ridge/Clark Rd. Housechurch\, 8796 Winter Breeze Way\, Sarasota\, FL\, 34241\, United States
CATEGORIES:Housechurch Services
ATTACH;FMTTYPE=image/jpeg:https://srqhousechurch.com/wp-content/uploads/2023/11/IMG_4044-scaled.jpeg
END:VEVENT
BEGIN:VEVENT
DTSTART;TZID=America/New_York:20250316T100000
DTEND;TZID=America/New_York:20250316T120000
DTSTAMP:20260422T182611
CREATED:20250228T145712Z
LAST-MODIFIED:20250228T145712Z
UID:10000495-1742119200-1742126400@srqhousechurch.com
SUMMARY:Fruitville Housechurch Service
DESCRIPTION:
URL:https://srqhousechurch.com/event/fruitville-housechurch-service-27/
LOCATION:SRQ-Fruitville Housechurch\, 1664 Georgetowne Boulevard\, Sarasota\, Florida\, 34232
CATEGORIES:Housechurch Services
ATTACH;FMTTYPE=image/webp:https://srqhousechurch.com/wp-content/uploads/2023/09/MKD-9313.webp
END:VEVENT
END:VCALENDAR