BEGIN:VCALENDAR
VERSION:2.0
PRODID:-//SRQ housechurch - ECPv6.15.20//NONSGML v1.0//EN
CALSCALE:GREGORIAN
METHOD:PUBLISH
X-ORIGINAL-URL:https://srqhousechurch.com
X-WR-CALDESC:Events for SRQ housechurch
REFRESH-INTERVAL;VALUE=DURATION:PT1H
X-Robots-Tag:noindex
X-PUBLISHED-TTL:PT1H
BEGIN:VTIMEZONE
TZID:America/New_York
BEGIN:DAYLIGHT
TZOFFSETFROM:-0500
TZOFFSETTO:-0400
TZNAME:EDT
DTSTART:20240310T070000
END:DAYLIGHT
BEGIN:STANDARD
TZOFFSETFROM:-0400
TZOFFSETTO:-0500
TZNAME:EST
DTSTART:20241103T060000
END:STANDARD
BEGIN:DAYLIGHT
TZOFFSETFROM:-0500
TZOFFSETTO:-0400
TZNAME:EDT
DTSTART:20250309T070000
END:DAYLIGHT
BEGIN:STANDARD
TZOFFSETFROM:-0400
TZOFFSETTO:-0500
TZNAME:EST
DTSTART:20251102T060000
END:STANDARD
BEGIN:DAYLIGHT
TZOFFSETFROM:-0500
TZOFFSETTO:-0400
TZNAME:EDT
DTSTART:20260308T070000
END:DAYLIGHT
BEGIN:STANDARD
TZOFFSETFROM:-0400
TZOFFSETTO:-0500
TZNAME:EST
DTSTART:20261101T060000
END:STANDARD
END:VTIMEZONE
BEGIN:VEVENT
DTSTART;TZID=America/New_York:20250223T100000
DTEND;TZID=America/New_York:20250223T120000
DTSTAMP:20260422T182546
CREATED:20250129T212137Z
LAST-MODIFIED:20250129T212137Z
UID:10000464-1740304800-1740312000@srqhousechurch.com
SUMMARY:Skye Ranch Housechurch Service
DESCRIPTION:
URL:https://srqhousechurch.com/event/skye-ranch-housechurch-service-11/
LOCATION:SRQ-Snowfall St. Housechurch\, 8475 Snowfall Street\, Sarasota\, FL\, 34241\, United States
CATEGORIES:Housechurch Services
ATTACH;FMTTYPE=image/jpeg:https://srqhousechurch.com/wp-content/uploads/2023/09/footer-9103.jpg
END:VEVENT
BEGIN:VEVENT
DTSTART;TZID=America/New_York:20250223T100000
DTEND;TZID=America/New_York:20250223T120000
DTSTAMP:20260422T182546
CREATED:20250129T212255Z
LAST-MODIFIED:20250129T212312Z
UID:10000465-1740304800-1740312000@srqhousechurch.com
SUMMARY:Fruitville Housechurch Service
DESCRIPTION:
URL:https://srqhousechurch.com/event/fruitville-housechurch-service-19/
LOCATION:SRQ-Fruitville Housechurch\, 1664 Georgetowne Boulevard\, Sarasota\, Florida\, 34232
CATEGORIES:Housechurch Services
ATTACH;FMTTYPE=image/webp:https://srqhousechurch.com/wp-content/uploads/2023/09/MKD-9313.webp
END:VEVENT
BEGIN:VEVENT
DTSTART;TZID=America/New_York:20250223T100000
DTEND;TZID=America/New_York:20250223T120000
DTSTAMP:20260422T182546
CREATED:20250129T212523Z
LAST-MODIFIED:20250129T212523Z
UID:10000466-1740304800-1740312000@srqhousechurch.com
SUMMARY:Clark Housechurch Service
DESCRIPTION:
URL:https://srqhousechurch.com/event/clark-housechurch-service-2/
LOCATION:SRQ- Bee Ridge/Clark Rd. Housechurch\, 8796 Winter Breeze Way\, Sarasota\, FL\, 34241\, United States
CATEGORIES:Housechurch Services
ATTACH;FMTTYPE=image/webp:https://srqhousechurch.com/wp-content/uploads/2023/09/MKD-9327.webp
END:VEVENT
BEGIN:VEVENT
DTSTART;TZID=America/New_York:20250223T100000
DTEND;TZID=America/New_York:20250223T120000
DTSTAMP:20260422T182546
CREATED:20250129T212710Z
LAST-MODIFIED:20250129T212710Z
UID:10000467-1740304800-1740312000@srqhousechurch.com
SUMMARY:Longboat Key Beach Church
DESCRIPTION:
URL:https://srqhousechurch.com/event/longboat-key-beach-church-10/
LOCATION:SRQ-Longboat Key Beach Church\, 1281 Gulf of Mexico Dr\, Longboat Key\, FL\, 34228\, United States
CATEGORIES:Housechurch Services
ATTACH;FMTTYPE=image/jpeg:https://srqhousechurch.com/wp-content/uploads/2023/11/LBK-Beach-Church-scaled.jpg
END:VEVENT
BEGIN:VEVENT
DTSTART;TZID=America/New_York:20250302T100000
DTEND;TZID=America/New_York:20250302T120000
DTSTAMP:20260422T182546
CREATED:20250130T165822Z
LAST-MODIFIED:20250130T165822Z
UID:10000490-1740909600-1740916800@srqhousechurch.com
SUMMARY:Skye Ranch Housechurch Service
DESCRIPTION:
URL:https://srqhousechurch.com/event/skye-ranch-housechurch-service-12/
LOCATION:SRQ-Snowfall St. Housechurch\, 8475 Snowfall Street\, Sarasota\, FL\, 34241\, United States
CATEGORIES:Housechurch Services
ATTACH;FMTTYPE=image/jpeg:https://srqhousechurch.com/wp-content/uploads/2023/11/MKD-9320-scaled.jpg
END:VEVENT
BEGIN:VEVENT
DTSTART;TZID=America/New_York:20250302T100000
DTEND;TZID=America/New_York:20250302T120000
DTSTAMP:20260422T182546
CREATED:20250130T165901Z
LAST-MODIFIED:20250130T165901Z
UID:10000491-1740909600-1740916800@srqhousechurch.com
SUMMARY:Longboat Key Beach Church
DESCRIPTION:
URL:https://srqhousechurch.com/event/longboat-key-beach-church-11/
LOCATION:SRQ-Longboat Key Beach Church\, 1281 Gulf of Mexico Dr\, Longboat Key\, FL\, 34228\, United States
CATEGORIES:Housechurch Services
ATTACH;FMTTYPE=image/png:https://srqhousechurch.com/wp-content/uploads/2023/12/LBK-Beach-Church-Photo.png
END:VEVENT
BEGIN:VEVENT
DTSTART;TZID=America/New_York:20250302T100000
DTEND;TZID=America/New_York:20250302T120000
DTSTAMP:20260422T182546
CREATED:20250130T165950Z
LAST-MODIFIED:20250130T165950Z
UID:10000492-1740909600-1740916800@srqhousechurch.com
SUMMARY:Fruitville Housechurch Service
DESCRIPTION:
URL:https://srqhousechurch.com/event/fruitville-housechurch-service-21/
LOCATION:SRQ-Fruitville Housechurch\, 1664 Georgetowne Boulevard\, Sarasota\, Florida\, 34232
CATEGORIES:Housechurch Services
ATTACH;FMTTYPE=image/webp:https://srqhousechurch.com/wp-content/uploads/2023/09/MKD-9313.webp
END:VEVENT
BEGIN:VEVENT
DTSTART;TZID=America/New_York:20250302T100000
DTEND;TZID=America/New_York:20250302T120000
DTSTAMP:20260422T182546
CREATED:20250130T170046Z
LAST-MODIFIED:20250130T170046Z
UID:10000493-1740909600-1740916800@srqhousechurch.com
SUMMARY:Clark Housechurch Service
DESCRIPTION:
URL:https://srqhousechurch.com/event/clark-housechurch-service-3/
LOCATION:SRQ- Bee Ridge/Clark Rd. Housechurch\, 8796 Winter Breeze Way\, Sarasota\, FL\, 34241\, United States
CATEGORIES:Housechurch Services
ATTACH;FMTTYPE=image/webp:https://srqhousechurch.com/wp-content/uploads/2023/09/MKD-9327.webp
END:VEVENT
BEGIN:VEVENT
DTSTART;TZID=America/New_York:20250316T100000
DTEND;TZID=America/New_York:20250316T120000
DTSTAMP:20260422T182546
CREATED:20250228T145627Z
LAST-MODIFIED:20250228T145627Z
UID:10000494-1742119200-1742126400@srqhousechurch.com
SUMMARY:Clark Housechurch Service
DESCRIPTION:
URL:https://srqhousechurch.com/event/clark-housechurch-service-4/
LOCATION:SRQ- Bee Ridge/Clark Rd. Housechurch\, 8796 Winter Breeze Way\, Sarasota\, FL\, 34241\, United States
CATEGORIES:Housechurch Services
ATTACH;FMTTYPE=image/jpeg:https://srqhousechurch.com/wp-content/uploads/2023/11/IMG_4044-scaled.jpeg
END:VEVENT
BEGIN:VEVENT
DTSTART;TZID=America/New_York:20250316T100000
DTEND;TZID=America/New_York:20250316T120000
DTSTAMP:20260422T182546
CREATED:20250228T145712Z
LAST-MODIFIED:20250228T145712Z
UID:10000495-1742119200-1742126400@srqhousechurch.com
SUMMARY:Fruitville Housechurch Service
DESCRIPTION:
URL:https://srqhousechurch.com/event/fruitville-housechurch-service-27/
LOCATION:SRQ-Fruitville Housechurch\, 1664 Georgetowne Boulevard\, Sarasota\, Florida\, 34232
CATEGORIES:Housechurch Services
ATTACH;FMTTYPE=image/webp:https://srqhousechurch.com/wp-content/uploads/2023/09/MKD-9313.webp
END:VEVENT
BEGIN:VEVENT
DTSTART;TZID=America/New_York:20250316T100000
DTEND;TZID=America/New_York:20250316T120000
DTSTAMP:20260422T182546
CREATED:20250228T145744Z
LAST-MODIFIED:20250228T145744Z
UID:10000496-1742119200-1742126400@srqhousechurch.com
SUMMARY:Longboat Key Beach Church
DESCRIPTION:
URL:https://srqhousechurch.com/event/longboat-key-beach-church-12/
LOCATION:SRQ-Longboat Key Beach Church\, 1281 Gulf of Mexico Dr\, Longboat Key\, FL\, 34228\, United States
CATEGORIES:Housechurch Services
ATTACH;FMTTYPE=image/png:https://srqhousechurch.com/wp-content/uploads/2023/12/LBK-Beach-Church-Photo.png
END:VEVENT
BEGIN:VEVENT
DTSTART;TZID=America/New_York:20250316T100000
DTEND;TZID=America/New_York:20250316T120000
DTSTAMP:20260422T182546
CREATED:20250228T145822Z
LAST-MODIFIED:20250228T145822Z
UID:10000497-1742119200-1742126400@srqhousechurch.com
SUMMARY:Skye Ranch Housechurch Service
DESCRIPTION:
URL:https://srqhousechurch.com/event/skye-ranch-housechurch-service-13/
LOCATION:SRQ-Snowfall St. Housechurch\, 8475 Snowfall Street\, Sarasota\, FL\, 34241\, United States
CATEGORIES:Housechurch Services
ATTACH;FMTTYPE=image/jpeg:https://srqhousechurch.com/wp-content/uploads/2023/09/footer-9103.jpg
END:VEVENT
BEGIN:VEVENT
DTSTART;TZID=America/New_York:20250330T100000
DTEND;TZID=America/New_York:20250330T120000
DTSTAMP:20260422T182546
CREATED:20250228T150142Z
LAST-MODIFIED:20250228T150142Z
UID:10000498-1743328800-1743336000@srqhousechurch.com
SUMMARY:Clark Housechurch Service
DESCRIPTION:
URL:https://srqhousechurch.com/event/clark-housechurch-service-5/
LOCATION:SRQ- Bee Ridge/Clark Rd. Housechurch\, 8796 Winter Breeze Way\, Sarasota\, FL\, 34241\, United States
CATEGORIES:Housechurch Services
ATTACH;FMTTYPE=image/webp:https://srqhousechurch.com/wp-content/uploads/2023/09/MKD-9327.webp
END:VEVENT
BEGIN:VEVENT
DTSTART;TZID=America/New_York:20250330T100000
DTEND;TZID=America/New_York:20250330T120000
DTSTAMP:20260422T182546
CREATED:20250228T150259Z
LAST-MODIFIED:20250228T150259Z
UID:10000499-1743328800-1743336000@srqhousechurch.com
SUMMARY:Fruitville Housechurch Service
DESCRIPTION:
URL:https://srqhousechurch.com/event/fruitville-housechurch-service-28/
LOCATION:SRQ-Fruitville Housechurch\, 1664 Georgetowne Boulevard\, Sarasota\, Florida\, 34232
CATEGORIES:Housechurch Services
ATTACH;FMTTYPE=image/webp:https://srqhousechurch.com/wp-content/uploads/2023/09/MKD-9313.webp
END:VEVENT
BEGIN:VEVENT
DTSTART;TZID=America/New_York:20250330T100000
DTEND;TZID=America/New_York:20250330T120000
DTSTAMP:20260422T182546
CREATED:20250228T150344Z
LAST-MODIFIED:20250228T150344Z
UID:10000500-1743328800-1743336000@srqhousechurch.com
SUMMARY:Skye Ranch Housechurch Service
DESCRIPTION:
URL:https://srqhousechurch.com/event/skye-ranch-housechurch-service-14/
LOCATION:SRQ-Snowfall St. Housechurch\, 8475 Snowfall Street\, Sarasota\, FL\, 34241\, United States
CATEGORIES:Housechurch Services
ATTACH;FMTTYPE=image/jpeg:https://srqhousechurch.com/wp-content/uploads/2023/09/footer-9103.jpg
END:VEVENT
BEGIN:VEVENT
DTSTART;TZID=America/New_York:20250330T100000
DTEND;TZID=America/New_York:20250330T120000
DTSTAMP:20260422T182546
CREATED:20250228T150420Z
LAST-MODIFIED:20250228T150420Z
UID:10000501-1743328800-1743336000@srqhousechurch.com
SUMMARY:Longboat Key Beach Church
DESCRIPTION:
URL:https://srqhousechurch.com/event/longboat-key-beach-church-13/
LOCATION:SRQ-Longboat Key Beach Church\, 1281 Gulf of Mexico Dr\, Longboat Key\, FL\, 34228\, United States
CATEGORIES:Housechurch Services
ATTACH;FMTTYPE=image/jpeg:https://srqhousechurch.com/wp-content/uploads/2023/11/LBK-Beach-Church-scaled.jpg
END:VEVENT
BEGIN:VEVENT
DTSTART;TZID=America/New_York:20250413T100000
DTEND;TZID=America/New_York:20250413T120000
DTSTAMP:20260422T182546
CREATED:20250321T150532Z
LAST-MODIFIED:20250321T150532Z
UID:10000504-1744538400-1744545600@srqhousechurch.com
SUMMARY:Longboat Key Beach Church
DESCRIPTION:
URL:https://srqhousechurch.com/event/longboat-key-beach-church-14/
LOCATION:SRQ-Longboat Key Beach Church\, 1281 Gulf of Mexico Dr\, Longboat Key\, FL\, 34228\, United States
CATEGORIES:Housechurch Services
ATTACH;FMTTYPE=image/png:https://srqhousechurch.com/wp-content/uploads/2023/12/LBK-Beach-Church-Photo.png
END:VEVENT
BEGIN:VEVENT
DTSTART;TZID=America/New_York:20250413T100000
DTEND;TZID=America/New_York:20250413T120000
DTSTAMP:20260422T182546
CREATED:20250321T150706Z
LAST-MODIFIED:20250321T150706Z
UID:10000506-1744538400-1744545600@srqhousechurch.com
SUMMARY:Fruitville Housechurch Service
DESCRIPTION:
URL:https://srqhousechurch.com/event/fruitville-housechurch-service-31/
LOCATION:SRQ-Fruitville Housechurch\, 1664 Georgetowne Boulevard\, Sarasota\, Florida\, 34232
CATEGORIES:Housechurch Services
ATTACH;FMTTYPE=image/webp:https://srqhousechurch.com/wp-content/uploads/2023/09/MKD-9313.webp
END:VEVENT
BEGIN:VEVENT
DTSTART;TZID=America/New_York:20250413T100000
DTEND;TZID=America/New_York:20250413T120000
DTSTAMP:20260422T182546
CREATED:20250408T124957Z
LAST-MODIFIED:20250408T124957Z
UID:10000511-1744538400-1744545600@srqhousechurch.com
SUMMARY:Skye Ranch Park Service
DESCRIPTION:
URL:https://srqhousechurch.com/event/skye-ranch-park-service/
LOCATION:Turner Park\, 9185 Little Dipper Lane\, Sarasota\, FL\, 34241\, United States
CATEGORIES:Housechurch Services
ATTACH;FMTTYPE=image/jpeg:https://srqhousechurch.com/wp-content/uploads/2023/09/footer-9103.jpg
END:VEVENT
BEGIN:VEVENT
DTSTART;TZID=America/New_York:20250427T100000
DTEND;TZID=America/New_York:20250427T120000
DTSTAMP:20260422T182546
CREATED:20250321T150436Z
LAST-MODIFIED:20250425T151527Z
UID:10000503-1745748000-1745755200@srqhousechurch.com
SUMMARY:Skye Ranch Housechurch Service
DESCRIPTION:
URL:https://srqhousechurch.com/event/skye-ranch-housechurch-service-16/
LOCATION:2618 Bigelow Drive Sarasota\, FL. 34239
CATEGORIES:Housechurch Services
ATTACH;FMTTYPE=image/jpeg:https://srqhousechurch.com/wp-content/uploads/2023/09/footer-9103.jpg
END:VEVENT
BEGIN:VEVENT
DTSTART;TZID=America/New_York:20250427T100000
DTEND;TZID=America/New_York:20250427T120000
DTSTAMP:20260422T182546
CREATED:20250321T150607Z
LAST-MODIFIED:20250321T150607Z
UID:10000505-1745748000-1745755200@srqhousechurch.com
SUMMARY:Longboat Key Beach Church
DESCRIPTION:
URL:https://srqhousechurch.com/event/longboat-key-beach-church-15/
LOCATION:SRQ-Longboat Key Beach Church\, 1281 Gulf of Mexico Dr\, Longboat Key\, FL\, 34228\, United States
CATEGORIES:Housechurch Services
ATTACH;FMTTYPE=image/png:https://srqhousechurch.com/wp-content/uploads/2023/12/LBK-Beach-Church-Photo.png
END:VEVENT
BEGIN:VEVENT
DTSTART;TZID=America/New_York:20250427T100000
DTEND;TZID=America/New_York:20250427T120000
DTSTAMP:20260422T182546
CREATED:20250321T150741Z
LAST-MODIFIED:20250321T150741Z
UID:10000507-1745748000-1745755200@srqhousechurch.com
SUMMARY:Fruitville Housechurch Service
DESCRIPTION:
URL:https://srqhousechurch.com/event/fruitville-housechurch-service-32/
LOCATION:SRQ-Fruitville Housechurch\, 1664 Georgetowne Boulevard\, Sarasota\, Florida\, 34232
CATEGORIES:Housechurch Services
ATTACH;FMTTYPE=image/webp:https://srqhousechurch.com/wp-content/uploads/2023/09/MKD-9313.webp
END:VEVENT
BEGIN:VEVENT
DTSTART;TZID=America/New_York:20250427T100000
DTEND;TZID=America/New_York:20250427T120000
DTSTAMP:20260422T182546
CREATED:20250321T150858Z
LAST-MODIFIED:20250321T150858Z
UID:10000509-1745748000-1745755200@srqhousechurch.com
SUMMARY:Clark Housechurch Service
DESCRIPTION:
URL:https://srqhousechurch.com/event/clark-housechurch-service-7/
LOCATION:SRQ- Bee Ridge/Clark Rd. Housechurch\, 8796 Winter Breeze Way\, Sarasota\, FL\, 34241\, United States
CATEGORIES:Housechurch Services
ATTACH;FMTTYPE=image/webp:https://srqhousechurch.com/wp-content/uploads/2023/09/home-divider-9345.01.webp
END:VEVENT
BEGIN:VEVENT
DTSTART;TZID=America/New_York:20250504T100000
DTEND;TZID=America/New_York:20250504T120000
DTSTAMP:20260422T182546
CREATED:20250425T151743Z
LAST-MODIFIED:20250425T151743Z
UID:10000513-1746352800-1746360000@srqhousechurch.com
SUMMARY:Fruitville Housechurch Service
DESCRIPTION:
URL:https://srqhousechurch.com/event/fruitville-housechurch-service-33/
LOCATION:SRQ-Fruitville Housechurch\, 1664 Georgetowne Boulevard\, Sarasota\, Florida\, 34232
CATEGORIES:Housechurch Services
ATTACH;FMTTYPE=image/webp:https://srqhousechurch.com/wp-content/uploads/2023/09/MKD-9301.webp
END:VEVENT
BEGIN:VEVENT
DTSTART;TZID=America/New_York:20250504T100000
DTEND;TZID=America/New_York:20250504T120000
DTSTAMP:20260422T182546
CREATED:20250425T151824Z
LAST-MODIFIED:20250425T151824Z
UID:10000514-1746352800-1746360000@srqhousechurch.com
SUMMARY:Clark Housechurch Service
DESCRIPTION:
URL:https://srqhousechurch.com/event/clark-housechurch-service-6/
LOCATION:SRQ- Bee Ridge/Clark Rd. Housechurch\, 8796 Winter Breeze Way\, Sarasota\, FL\, 34241\, United States
CATEGORIES:Housechurch Services
ATTACH;FMTTYPE=image/webp:https://srqhousechurch.com/wp-content/uploads/2023/09/xo-MKD-9334.webp
END:VEVENT
BEGIN:VEVENT
DTSTART;TZID=America/New_York:20250518T100000
DTEND;TZID=America/New_York:20250518T120000
DTSTAMP:20260422T182546
CREATED:20250504T224031Z
LAST-MODIFIED:20250504T224031Z
UID:10000518-1747562400-1747569600@srqhousechurch.com
SUMMARY:Skye Ranch Housechurch Service
DESCRIPTION:
URL:https://srqhousechurch.com/event/skye-ranch-housechurch-service-15/
LOCATION:SRQ-Snowfall St. Housechurch\, 8475 Snowfall Street\, Sarasota\, FL\, 34241\, United States
CATEGORIES:Housechurch Services
ATTACH;FMTTYPE=image/jpeg:https://srqhousechurch.com/wp-content/uploads/2023/09/footer-9103.jpg
END:VEVENT
BEGIN:VEVENT
DTSTART;TZID=America/New_York:20250518T100000
DTEND;TZID=America/New_York:20250518T120000
DTSTAMP:20260422T182546
CREATED:20250504T224105Z
LAST-MODIFIED:20250504T224105Z
UID:10000519-1747562400-1747569600@srqhousechurch.com
SUMMARY:Clark Housechurch Service
DESCRIPTION:
URL:https://srqhousechurch.com/event/clark-housechurch-service-9/
LOCATION:SRQ- Bee Ridge/Clark Rd. Housechurch\, 8796 Winter Breeze Way\, Sarasota\, FL\, 34241\, United States
CATEGORIES:Housechurch Services
ATTACH;FMTTYPE=image/webp:https://srqhousechurch.com/wp-content/uploads/2023/09/MKD-9327.webp
END:VEVENT
BEGIN:VEVENT
DTSTART;TZID=America/New_York:20250518T100000
DTEND;TZID=America/New_York:20250518T120000
DTSTAMP:20260422T182546
CREATED:20250504T224150Z
LAST-MODIFIED:20250504T224150Z
UID:10000520-1747562400-1747569600@srqhousechurch.com
SUMMARY:Fruitville Housechurch Service
DESCRIPTION:
URL:https://srqhousechurch.com/event/fruitville-housechurch-service-35/
LOCATION:SRQ-Fruitville Housechurch\, 1664 Georgetowne Boulevard\, Sarasota\, Florida\, 34232
CATEGORIES:Housechurch Services
ATTACH;FMTTYPE=image/webp:https://srqhousechurch.com/wp-content/uploads/2023/09/MKD-9313.webp
END:VEVENT
BEGIN:VEVENT
DTSTART;TZID=America/New_York:20250518T100000
DTEND;TZID=America/New_York:20250518T120000
DTSTAMP:20260422T182546
CREATED:20250513T124409Z
LAST-MODIFIED:20250513T124409Z
UID:10000521-1747562400-1747569600@srqhousechurch.com
SUMMARY:North Port/Venice Housechurch Service
DESCRIPTION:
URL:https://srqhousechurch.com/event/north-port-venice-housechurch-service/
LOCATION:North Port/ Venice House Church\, 2259 Boxwood Street\, North Port\, FL\, 34289\, United States
CATEGORIES:Housechurch Services
ATTACH;FMTTYPE=image/webp:https://srqhousechurch.com/wp-content/uploads/2023/09/MKD-9307.webp
END:VEVENT
BEGIN:VEVENT
DTSTART;TZID=America/New_York:20250525T100000
DTEND;TZID=America/New_York:20250525T120000
DTSTAMP:20260422T182546
CREATED:20250425T151951Z
LAST-MODIFIED:20250525T014000Z
UID:10000515-1748167200-1748174400@srqhousechurch.com
SUMMARY:Skye Ranch Housechurch Service
DESCRIPTION:
URL:https://srqhousechurch.com/event/skye-ranch-housechurch-service-17/
LOCATION:4031 Waikiki Dr. Sarasota\, FL. 34241
CATEGORIES:Housechurch Services
ATTACH;FMTTYPE=image/jpeg:https://srqhousechurch.com/wp-content/uploads/2023/09/footer-9103.jpg
END:VEVENT
END:VCALENDAR