BEGIN:VCALENDAR
VERSION:2.0
PRODID:-//SRQ housechurch - ECPv6.15.20//NONSGML v1.0//EN
CALSCALE:GREGORIAN
METHOD:PUBLISH
X-ORIGINAL-URL:https://srqhousechurch.com
X-WR-CALDESC:Events for SRQ housechurch
REFRESH-INTERVAL;VALUE=DURATION:PT1H
X-Robots-Tag:noindex
X-PUBLISHED-TTL:PT1H
BEGIN:VTIMEZONE
TZID:America/New_York
BEGIN:DAYLIGHT
TZOFFSETFROM:-0500
TZOFFSETTO:-0400
TZNAME:EDT
DTSTART:20230312T070000
END:DAYLIGHT
BEGIN:STANDARD
TZOFFSETFROM:-0400
TZOFFSETTO:-0500
TZNAME:EST
DTSTART:20231105T060000
END:STANDARD
BEGIN:DAYLIGHT
TZOFFSETFROM:-0500
TZOFFSETTO:-0400
TZNAME:EDT
DTSTART:20240310T070000
END:DAYLIGHT
BEGIN:STANDARD
TZOFFSETFROM:-0400
TZOFFSETTO:-0500
TZNAME:EST
DTSTART:20241103T060000
END:STANDARD
BEGIN:DAYLIGHT
TZOFFSETFROM:-0500
TZOFFSETTO:-0400
TZNAME:EDT
DTSTART:20250309T070000
END:DAYLIGHT
BEGIN:STANDARD
TZOFFSETFROM:-0400
TZOFFSETTO:-0500
TZNAME:EST
DTSTART:20251102T060000
END:STANDARD
END:VTIMEZONE
BEGIN:VEVENT
DTSTART;TZID=America/New_York:20240703T000000
DTEND;TZID=America/New_York:20240703T000000
DTSTAMP:20260422T083433
CREATED:20240702T183313Z
LAST-MODIFIED:20240702T183421Z
UID:10000096-1719964800-1719964800@srqhousechurch.com
SUMMARY:No Women's Midweek
DESCRIPTION:
URL:https://srqhousechurch.com/event/womens-midweek-6-3/
CATEGORIES:Midweek Services
END:VEVENT
BEGIN:VEVENT
DTSTART;TZID=America/New_York:20240710T190000
DTEND;TZID=America/New_York:20240710T210000
DTSTAMP:20260422T083433
CREATED:20240208T194446Z
LAST-MODIFIED:20240208T194446Z
UID:10000369-1720638000-1720645200@srqhousechurch.com
SUMMARY:Men's Midweek
DESCRIPTION:
URL:https://srqhousechurch.com/event/mens-midweek-4/2024-07-10/
CATEGORIES:Midweek Services
ATTACH;FMTTYPE=image/jpeg:https://srqhousechurch.com/wp-content/uploads/2022/05/IMG_2241.jpg
END:VEVENT
BEGIN:VEVENT
DTSTART;TZID=America/New_York:20240717T190000
DTEND;TZID=America/New_York:20240717T203000
DTSTAMP:20260422T083433
CREATED:20240104T191152Z
LAST-MODIFIED:20240117T114115Z
UID:10000156-1721242800-1721248200@srqhousechurch.com
SUMMARY:Women's Midweek-Scavenger Hunt at UTC
DESCRIPTION:
URL:https://srqhousechurch.com/event/womens-midweek-7-7/
CATEGORIES:Midweek Services
ATTACH;FMTTYPE=image/jpeg:https://srqhousechurch.com/wp-content/uploads/2023/09/MKD-9316.jpg
END:VEVENT
BEGIN:VEVENT
DTSTART;TZID=America/New_York:20240724T190000
DTEND;TZID=America/New_York:20240724T210000
DTSTAMP:20260422T083433
CREATED:20231224T162325Z
LAST-MODIFIED:20231224T162325Z
UID:10000276-1721847600-1721854800@srqhousechurch.com
SUMMARY:Men's Midweek
DESCRIPTION:
URL:https://srqhousechurch.com/event/mens-midweek-2/2024-07-24/
CATEGORIES:Midweek Services
ATTACH;FMTTYPE=image/jpeg:https://srqhousechurch.com/wp-content/uploads/2022/11/C0CC41FA-9AA2-458E-AAEC-3DA129381DAB.jpeg
END:VEVENT
END:VCALENDAR