BEGIN:VCALENDAR
VERSION:2.0
PRODID:-//SRQ housechurch - ECPv6.15.20//NONSGML v1.0//EN
CALSCALE:GREGORIAN
METHOD:PUBLISH
X-ORIGINAL-URL:https://srqhousechurch.com
X-WR-CALDESC:Events for SRQ housechurch
REFRESH-INTERVAL;VALUE=DURATION:PT1H
X-Robots-Tag:noindex
X-PUBLISHED-TTL:PT1H
BEGIN:VTIMEZONE
TZID:America/New_York
BEGIN:DAYLIGHT
TZOFFSETFROM:-0500
TZOFFSETTO:-0400
TZNAME:EDT
DTSTART:20230312T070000
END:DAYLIGHT
BEGIN:STANDARD
TZOFFSETFROM:-0400
TZOFFSETTO:-0500
TZNAME:EST
DTSTART:20231105T060000
END:STANDARD
BEGIN:DAYLIGHT
TZOFFSETFROM:-0500
TZOFFSETTO:-0400
TZNAME:EDT
DTSTART:20240310T070000
END:DAYLIGHT
BEGIN:STANDARD
TZOFFSETFROM:-0400
TZOFFSETTO:-0500
TZNAME:EST
DTSTART:20241103T060000
END:STANDARD
BEGIN:DAYLIGHT
TZOFFSETFROM:-0500
TZOFFSETTO:-0400
TZNAME:EDT
DTSTART:20250309T070000
END:DAYLIGHT
BEGIN:STANDARD
TZOFFSETFROM:-0400
TZOFFSETTO:-0500
TZNAME:EST
DTSTART:20251102T060000
END:STANDARD
END:VTIMEZONE
BEGIN:VEVENT
DTSTART;TZID=America/New_York:20241002T190000
DTEND;TZID=America/New_York:20241002T203000
DTSTAMP:20260422T015921
CREATED:20241001T130834Z
LAST-MODIFIED:20241001T130909Z
UID:10000099-1727895600-1727901000@srqhousechurch.com
SUMMARY:Women's Midweek
DESCRIPTION:
URL:https://srqhousechurch.com/event/womens-midweek-6-2-3/
LOCATION:100 Central Ave Sarasota\, FL. 34236\, 100 Central Ave.\, Sarasota\, 34236\, United States
CATEGORIES:Midweek Services
ATTACH;FMTTYPE=image/jpeg:https://srqhousechurch.com/wp-content/uploads/2023/09/xo-MKD-9321.jpg
END:VEVENT
BEGIN:VEVENT
DTSTART;TZID=America/New_York:20241016T190000
DTEND;TZID=America/New_York:20241016T203000
DTSTAMP:20260422T015921
CREATED:20240104T191838Z
LAST-MODIFIED:20241014T204236Z
UID:10000159-1729105200-1729110600@srqhousechurch.com
SUMMARY:Women's Midweek- Fall Fun Night
DESCRIPTION:
URL:https://srqhousechurch.com/event/womens-midweek-7-9/
CATEGORIES:Midweek Services
ATTACH;FMTTYPE=image/jpeg:https://srqhousechurch.com/wp-content/uploads/2023/09/MKD-9316.jpg
END:VEVENT
BEGIN:VEVENT
DTSTART;TZID=America/New_York:20241023T190000
DTEND;TZID=America/New_York:20241023T210000
DTSTAMP:20260422T015921
CREATED:20231224T162325Z
LAST-MODIFIED:20231224T162325Z
UID:10000279-1729710000-1729717200@srqhousechurch.com
SUMMARY:Men's Midweek
DESCRIPTION:
URL:https://srqhousechurch.com/event/mens-midweek-2/2024-10-23/
CATEGORIES:Midweek Services
ATTACH;FMTTYPE=image/jpeg:https://srqhousechurch.com/wp-content/uploads/2022/11/C0CC41FA-9AA2-458E-AAEC-3DA129381DAB.jpeg
END:VEVENT
END:VCALENDAR