BEGIN:VCALENDAR
VERSION:2.0
PRODID:-//SRQ housechurch - ECPv6.15.20//NONSGML v1.0//EN
CALSCALE:GREGORIAN
METHOD:PUBLISH
X-ORIGINAL-URL:https://srqhousechurch.com
X-WR-CALDESC:Events for SRQ housechurch
REFRESH-INTERVAL;VALUE=DURATION:PT1H
X-Robots-Tag:noindex
X-PUBLISHED-TTL:PT1H
BEGIN:VTIMEZONE
TZID:America/New_York
BEGIN:DAYLIGHT
TZOFFSETFROM:-0500
TZOFFSETTO:-0400
TZNAME:EDT
DTSTART:20230312T070000
END:DAYLIGHT
BEGIN:STANDARD
TZOFFSETFROM:-0400
TZOFFSETTO:-0500
TZNAME:EST
DTSTART:20231105T060000
END:STANDARD
BEGIN:DAYLIGHT
TZOFFSETFROM:-0500
TZOFFSETTO:-0400
TZNAME:EDT
DTSTART:20240310T070000
END:DAYLIGHT
BEGIN:STANDARD
TZOFFSETFROM:-0400
TZOFFSETTO:-0500
TZNAME:EST
DTSTART:20241103T060000
END:STANDARD
BEGIN:DAYLIGHT
TZOFFSETFROM:-0500
TZOFFSETTO:-0400
TZNAME:EDT
DTSTART:20250309T070000
END:DAYLIGHT
BEGIN:STANDARD
TZOFFSETFROM:-0400
TZOFFSETTO:-0500
TZNAME:EST
DTSTART:20251102T060000
END:STANDARD
END:VTIMEZONE
BEGIN:VEVENT
DTSTART;TZID=America/New_York:20241106T190000
DTEND;TZID=America/New_York:20241106T203000
DTSTAMP:20260421T222734
CREATED:20240702T183159Z
LAST-MODIFIED:20240702T183200Z
UID:10000100-1730919600-1730925000@srqhousechurch.com
SUMMARY:Women's Midweek
DESCRIPTION:
URL:https://srqhousechurch.com/event/womens-midweek-6-2/2024-11-06/
CATEGORIES:Midweek Services
ATTACH;FMTTYPE=image/jpeg:https://srqhousechurch.com/wp-content/uploads/2023/09/xo-MKD-9321.jpg
END:VEVENT
BEGIN:VEVENT
DTSTART;TZID=America/New_York:20241106T190000
DTEND;TZID=America/New_York:20241106T203000
DTSTAMP:20260421T222734
CREATED:20241104T162700Z
LAST-MODIFIED:20241104T162833Z
UID:10000392-1730919600-1730925000@srqhousechurch.com
SUMMARY:Women's Midweek
DESCRIPTION:
URL:https://srqhousechurch.com/event/womens-midweek-8/
CATEGORIES:Midweek Services
ATTACH;FMTTYPE=image/jpeg:https://srqhousechurch.com/wp-content/uploads/2023/09/xo-MKD-9321.jpg
END:VEVENT
BEGIN:VEVENT
DTSTART;TZID=America/New_York:20241113T190000
DTEND;TZID=America/New_York:20241113T210000
DTSTAMP:20260421T222734
CREATED:20240208T194446Z
LAST-MODIFIED:20240208T194446Z
UID:10000373-1731524400-1731531600@srqhousechurch.com
SUMMARY:Men's Midweek
DESCRIPTION:
URL:https://srqhousechurch.com/event/mens-midweek-4/2024-11-13/
CATEGORIES:Midweek Services
ATTACH;FMTTYPE=image/jpeg:https://srqhousechurch.com/wp-content/uploads/2022/05/IMG_2241.jpg
END:VEVENT
BEGIN:VEVENT
DTSTART;TZID=America/New_York:20241113T190000
DTEND;TZID=America/New_York:20241113T210000
DTSTAMP:20260421T222734
CREATED:20241104T162747Z
LAST-MODIFIED:20241104T162747Z
UID:10000393-1731524400-1731531600@srqhousechurch.com
SUMMARY:Men's Midweek
DESCRIPTION:
URL:https://srqhousechurch.com/event/mens-midweek-5/
CATEGORIES:Midweek Services
ATTACH;FMTTYPE=image/webp:https://srqhousechurch.com/wp-content/uploads/2023/09/xo-MKD-9334.webp
END:VEVENT
BEGIN:VEVENT
DTSTART;TZID=America/New_York:20241120T190000
DTEND;TZID=America/New_York:20241120T203000
DTSTAMP:20260421T222734
CREATED:20240104T192558Z
LAST-MODIFIED:20240104T192607Z
UID:10000160-1732129200-1732134600@srqhousechurch.com
SUMMARY:Women's Midweek-Craft Night
DESCRIPTION:
URL:https://srqhousechurch.com/event/womens-midweek-7-10/
CATEGORIES:Midweek Services
ATTACH;FMTTYPE=image/jpeg:https://srqhousechurch.com/wp-content/uploads/2023/09/MKD-9316.jpg
END:VEVENT
END:VCALENDAR