BEGIN:VCALENDAR
VERSION:2.0
PRODID:-//SRQ housechurch - ECPv6.15.20//NONSGML v1.0//EN
CALSCALE:GREGORIAN
METHOD:PUBLISH
X-ORIGINAL-URL:https://srqhousechurch.com
X-WR-CALDESC:Events for SRQ housechurch
REFRESH-INTERVAL;VALUE=DURATION:PT1H
X-Robots-Tag:noindex
X-PUBLISHED-TTL:PT1H
BEGIN:VTIMEZONE
TZID:America/New_York
BEGIN:DAYLIGHT
TZOFFSETFROM:-0500
TZOFFSETTO:-0400
TZNAME:EDT
DTSTART:20240310T070000
END:DAYLIGHT
BEGIN:STANDARD
TZOFFSETFROM:-0400
TZOFFSETTO:-0500
TZNAME:EST
DTSTART:20241103T060000
END:STANDARD
BEGIN:DAYLIGHT
TZOFFSETFROM:-0500
TZOFFSETTO:-0400
TZNAME:EDT
DTSTART:20250309T070000
END:DAYLIGHT
BEGIN:STANDARD
TZOFFSETFROM:-0400
TZOFFSETTO:-0500
TZNAME:EST
DTSTART:20251102T060000
END:STANDARD
BEGIN:DAYLIGHT
TZOFFSETFROM:-0500
TZOFFSETTO:-0400
TZNAME:EDT
DTSTART:20260308T070000
END:DAYLIGHT
BEGIN:STANDARD
TZOFFSETFROM:-0400
TZOFFSETTO:-0500
TZNAME:EST
DTSTART:20261101T060000
END:STANDARD
END:VTIMEZONE
BEGIN:VEVENT
DTSTART;TZID=America/New_York:20250409T190000
DTEND;TZID=America/New_York:20250409T210000
DTSTAMP:20260421T114202
CREATED:20250129T211826Z
LAST-MODIFIED:20250129T211826Z
UID:10000442-1744225200-1744232400@srqhousechurch.com
SUMMARY:Men's Midweek
DESCRIPTION:
URL:https://srqhousechurch.com/event/mens-midweek-7/2025-04-09/
CATEGORIES:Midweek Services
ATTACH;FMTTYPE=image/webp:https://srqhousechurch.com/wp-content/uploads/2023/09/xo-MKD-9334.webp
END:VEVENT
BEGIN:VEVENT
DTSTART;TZID=America/New_York:20250416T190000
DTEND;TZID=America/New_York:20250416T210000
DTSTAMP:20260421T114202
CREATED:20250318T145143Z
LAST-MODIFIED:20250318T145148Z
UID:10000430-1744830000-1744837200@srqhousechurch.com
SUMMARY:Women's Midweek-CarePortal Training
DESCRIPTION:
URL:https://srqhousechurch.com/event/womens-midweek-13-3/
LOCATION:100 Central Ave Sarasota\, FL. 34236\, 100 Central Ave.\, Sarasota\, 34236\, United States
CATEGORIES:Midweek Services
ATTACH;FMTTYPE=image/webp:https://srqhousechurch.com/wp-content/uploads/2023/09/footer_3178-01.webp
END:VEVENT
BEGIN:VEVENT
DTSTART;TZID=America/New_York:20250423T190000
DTEND;TZID=America/New_York:20250423T210000
DTSTAMP:20260421T114202
CREATED:20250318T145504Z
LAST-MODIFIED:20250318T145532Z
UID:10000453-1745434800-1745442000@srqhousechurch.com
SUMMARY:Men's Midweek-CarePortal Training
DESCRIPTION:
URL:https://srqhousechurch.com/event/mens-midweek-8-2/
LOCATION:8796 Winter Breeze Way Sarasota\, FL. 34241\, 8796 Winter Breeze Way\, Sarasota\, FL\, 34241\, United States
CATEGORIES:Midweek Services
ATTACH;FMTTYPE=image/jpeg:https://srqhousechurch.com/wp-content/uploads/2022/05/IMG_2241.jpg
END:VEVENT
BEGIN:VEVENT
DTSTART;TZID=America/New_York:20250430T190000
DTEND;TZID=America/New_York:20250430T210000
DTSTAMP:20260421T114202
CREATED:20250321T150939Z
LAST-MODIFIED:20250415T121719Z
UID:10000510-1746039600-1746046800@srqhousechurch.com
SUMMARY:Women's Midweek
DESCRIPTION:
URL:https://srqhousechurch.com/event/womens-midweek-14/
LOCATION:2200 Plantation BlvdNorth Port\, FL 34289
CATEGORIES:Midweek Services
ATTACH;FMTTYPE=image/jpeg:https://srqhousechurch.com/wp-content/uploads/2025/03/Heading-1080-x-1350-px.jpeg
END:VEVENT
END:VCALENDAR