BEGIN:VCALENDAR
VERSION:2.0
PRODID:-//SRQ housechurch - ECPv6.15.20//NONSGML v1.0//EN
CALSCALE:GREGORIAN
METHOD:PUBLISH
X-WR-CALNAME:SRQ housechurch
X-ORIGINAL-URL:https://srqhousechurch.com
X-WR-CALDESC:Events for SRQ housechurch
REFRESH-INTERVAL;VALUE=DURATION:PT1H
X-Robots-Tag:noindex
X-PUBLISHED-TTL:PT1H
BEGIN:VTIMEZONE
TZID:America/New_York
BEGIN:DAYLIGHT
TZOFFSETFROM:-0500
TZOFFSETTO:-0400
TZNAME:EDT
DTSTART:20230312T070000
END:DAYLIGHT
BEGIN:STANDARD
TZOFFSETFROM:-0400
TZOFFSETTO:-0500
TZNAME:EST
DTSTART:20231105T060000
END:STANDARD
BEGIN:DAYLIGHT
TZOFFSETFROM:-0500
TZOFFSETTO:-0400
TZNAME:EDT
DTSTART:20240310T070000
END:DAYLIGHT
BEGIN:STANDARD
TZOFFSETFROM:-0400
TZOFFSETTO:-0500
TZNAME:EST
DTSTART:20241103T060000
END:STANDARD
BEGIN:DAYLIGHT
TZOFFSETFROM:-0500
TZOFFSETTO:-0400
TZNAME:EDT
DTSTART:20250309T070000
END:DAYLIGHT
BEGIN:STANDARD
TZOFFSETFROM:-0400
TZOFFSETTO:-0500
TZNAME:EST
DTSTART:20251102T060000
END:STANDARD
END:VTIMEZONE
BEGIN:VEVENT
DTSTART;TZID=America/New_York:20240323T090000
DTEND;TZID=America/New_York:20240323T120000
DTSTAMP:20260421T153707
CREATED:20231215T183901Z
LAST-MODIFIED:20240221T014356Z
UID:10000089-1711184400-1711195200@srqhousechurch.com
SUMMARY:Women's Day Event
DESCRIPTION:
URL:https://srqhousechurch.com/event/womens-day-event/
LOCATION:Carlisle Inn\, 3727 Bahia Vista St\, Sarasota\, Florida\, 34232
CATEGORIES:Fun Events
ATTACH;FMTTYPE=image/png:https://srqhousechurch.com/wp-content/uploads/2023/12/2024-Womens-Day-QR-Code.png
END:VEVENT
BEGIN:VEVENT
DTSTART;TZID=America/New_York:20240324T100000
DTEND;TZID=America/New_York:20240324T120000
DTSTAMP:20260421T153707
CREATED:20231214T163319Z
LAST-MODIFIED:20231214T163319Z
UID:10000040-1711274400-1711281600@srqhousechurch.com
SUMMARY:All Together Church Service
DESCRIPTION:
URL:https://srqhousechurch.com/event/all-together-church-service-7/
LOCATION:Carlisle Inn\, 3727 Bahia Vista St\, Sarasota\, Florida\, 34232
CATEGORIES:All Church Services
ATTACH;FMTTYPE=image/webp:https://srqhousechurch.com/wp-content/uploads/2023/09/xo-MKD-9136.webp
END:VEVENT
BEGIN:VEVENT
DTSTART;TZID=America/New_York:20240327T190000
DTEND;TZID=America/New_York:20240327T210000
DTSTAMP:20260421T153707
CREATED:20231224T162325Z
LAST-MODIFIED:20231224T162325Z
UID:10000272-1711566000-1711573200@srqhousechurch.com
SUMMARY:Men's Midweek
DESCRIPTION:
URL:https://srqhousechurch.com/event/mens-midweek-2/2024-03-27/
CATEGORIES:Midweek Services
ATTACH;FMTTYPE=image/jpeg:https://srqhousechurch.com/wp-content/uploads/2022/11/C0CC41FA-9AA2-458E-AAEC-3DA129381DAB.jpeg
END:VEVENT
BEGIN:VEVENT
DTSTART;TZID=America/New_York:20240329T190000
DTEND;TZID=America/New_York:20240329T210000
DTSTAMP:20260421T153707
CREATED:20231215T183735Z
LAST-MODIFIED:20240221T014552Z
UID:10000088-1711738800-1711746000@srqhousechurch.com
SUMMARY:Good Friday Service
DESCRIPTION:
URL:https://srqhousechurch.com/event/good-friday-devotional/
LOCATION:Carlisle Inn\, 3727 Bahia Vista St\, Sarasota\, Florida\, 34232
CATEGORIES:Fun Events
ATTACH;FMTTYPE=image/png:https://srqhousechurch.com/wp-content/uploads/2023/12/Good-Friday-Service-Announcement.png
END:VEVENT
END:VCALENDAR