BEGIN:VCALENDAR
VERSION:2.0
PRODID:-//SRQ housechurch - ECPv6.15.20//NONSGML v1.0//EN
CALSCALE:GREGORIAN
METHOD:PUBLISH
X-WR-CALNAME:SRQ housechurch
X-ORIGINAL-URL:https://srqhousechurch.com
X-WR-CALDESC:Events for SRQ housechurch
REFRESH-INTERVAL;VALUE=DURATION:PT1H
X-Robots-Tag:noindex
X-PUBLISHED-TTL:PT1H
BEGIN:VTIMEZONE
TZID:America/New_York
BEGIN:DAYLIGHT
TZOFFSETFROM:-0500
TZOFFSETTO:-0400
TZNAME:EDT
DTSTART:20250309T070000
END:DAYLIGHT
BEGIN:STANDARD
TZOFFSETFROM:-0400
TZOFFSETTO:-0500
TZNAME:EST
DTSTART:20251102T060000
END:STANDARD
BEGIN:DAYLIGHT
TZOFFSETFROM:-0500
TZOFFSETTO:-0400
TZNAME:EDT
DTSTART:20260308T070000
END:DAYLIGHT
BEGIN:STANDARD
TZOFFSETFROM:-0400
TZOFFSETTO:-0500
TZNAME:EST
DTSTART:20261101T060000
END:STANDARD
BEGIN:DAYLIGHT
TZOFFSETFROM:-0500
TZOFFSETTO:-0400
TZNAME:EDT
DTSTART:20270314T070000
END:DAYLIGHT
BEGIN:STANDARD
TZOFFSETFROM:-0400
TZOFFSETTO:-0500
TZNAME:EST
DTSTART:20271107T060000
END:STANDARD
BEGIN:DAYLIGHT
TZOFFSETFROM:-0500
TZOFFSETTO:-0400
TZNAME:EDT
DTSTART:20280312T070000
END:DAYLIGHT
BEGIN:STANDARD
TZOFFSETFROM:-0400
TZOFFSETTO:-0500
TZNAME:EST
DTSTART:20281105T060000
END:STANDARD
END:VTIMEZONE
BEGIN:VEVENT
DTSTART;TZID=America/New_York:20260527T190000
DTEND;TZID=America/New_York:20260527T210000
DTSTAMP:20260425T162148
CREATED:20251227T173006Z
LAST-MODIFIED:20251227T173006Z
UID:10000650-1779908400-1779915600@srqhousechurch.com
SUMMARY:Women's Midweek Service- Fun Event
DESCRIPTION:
URL:https://srqhousechurch.com/event/womens-midweek-service-fun-event/2026-05-27/
CATEGORIES:Midweek Services
ATTACH;FMTTYPE=image/jpeg:https://srqhousechurch.com/wp-content/uploads/2023/09/footer-main-1420.jpg
END:VEVENT
BEGIN:VEVENT
DTSTART;TZID=America/New_York:20260624T190000
DTEND;TZID=America/New_York:20260624T210000
DTSTAMP:20260425T162148
CREATED:20251227T173006Z
LAST-MODIFIED:20251227T173006Z
UID:10000651-1782327600-1782334800@srqhousechurch.com
SUMMARY:Women's Midweek Service- Fun Event
DESCRIPTION:
URL:https://srqhousechurch.com/event/womens-midweek-service-fun-event/2026-06-24/
CATEGORIES:Midweek Services
ATTACH;FMTTYPE=image/jpeg:https://srqhousechurch.com/wp-content/uploads/2023/09/footer-main-1420.jpg
END:VEVENT
BEGIN:VEVENT
DTSTART;TZID=America/New_York:20260722T190000
DTEND;TZID=America/New_York:20260722T210000
DTSTAMP:20260425T162148
CREATED:20251227T173006Z
LAST-MODIFIED:20251227T173006Z
UID:10000652-1784746800-1784754000@srqhousechurch.com
SUMMARY:Women's Midweek Service- Fun Event
DESCRIPTION:
URL:https://srqhousechurch.com/event/womens-midweek-service-fun-event/2026-07-22/
CATEGORIES:Midweek Services
ATTACH;FMTTYPE=image/jpeg:https://srqhousechurch.com/wp-content/uploads/2023/09/footer-main-1420.jpg
END:VEVENT
BEGIN:VEVENT
DTSTART;TZID=America/New_York:20260826T190000
DTEND;TZID=America/New_York:20260826T210000
DTSTAMP:20260425T162148
CREATED:20251227T173006Z
LAST-MODIFIED:20251227T173006Z
UID:10000653-1787770800-1787778000@srqhousechurch.com
SUMMARY:Women's Midweek Service- Fun Event
DESCRIPTION:
URL:https://srqhousechurch.com/event/womens-midweek-service-fun-event/2026-08-26/
CATEGORIES:Midweek Services
ATTACH;FMTTYPE=image/jpeg:https://srqhousechurch.com/wp-content/uploads/2023/09/footer-main-1420.jpg
END:VEVENT
BEGIN:VEVENT
DTSTART;TZID=America/New_York:20260923T190000
DTEND;TZID=America/New_York:20260923T210000
DTSTAMP:20260425T162148
CREATED:20251227T173006Z
LAST-MODIFIED:20251227T173006Z
UID:10000654-1790190000-1790197200@srqhousechurch.com
SUMMARY:Women's Midweek Service- Fun Event
DESCRIPTION:
URL:https://srqhousechurch.com/event/womens-midweek-service-fun-event/2026-09-23/
CATEGORIES:Midweek Services
ATTACH;FMTTYPE=image/jpeg:https://srqhousechurch.com/wp-content/uploads/2023/09/footer-main-1420.jpg
END:VEVENT
BEGIN:VEVENT
DTSTART;TZID=America/New_York:20261028T190000
DTEND;TZID=America/New_York:20261028T210000
DTSTAMP:20260425T162148
CREATED:20251227T173006Z
LAST-MODIFIED:20251227T173006Z
UID:10000655-1793214000-1793221200@srqhousechurch.com
SUMMARY:Women's Midweek Service- Fun Event
DESCRIPTION:
URL:https://srqhousechurch.com/event/womens-midweek-service-fun-event/2026-10-28/
CATEGORIES:Midweek Services
ATTACH;FMTTYPE=image/jpeg:https://srqhousechurch.com/wp-content/uploads/2023/09/footer-main-1420.jpg
END:VEVENT
BEGIN:VEVENT
DTSTART;TZID=America/New_York:20261125T190000
DTEND;TZID=America/New_York:20261125T210000
DTSTAMP:20260425T162148
CREATED:20251227T173006Z
LAST-MODIFIED:20251227T173006Z
UID:10000656-1795633200-1795640400@srqhousechurch.com
SUMMARY:Women's Midweek Service- Fun Event
DESCRIPTION:
URL:https://srqhousechurch.com/event/womens-midweek-service-fun-event/2026-11-25/
CATEGORIES:Midweek Services
ATTACH;FMTTYPE=image/jpeg:https://srqhousechurch.com/wp-content/uploads/2023/09/footer-main-1420.jpg
END:VEVENT
BEGIN:VEVENT
DTSTART;TZID=America/New_York:20261223T190000
DTEND;TZID=America/New_York:20261223T210000
DTSTAMP:20260425T162148
CREATED:20251227T173006Z
LAST-MODIFIED:20251227T173006Z
UID:10000657-1798052400-1798059600@srqhousechurch.com
SUMMARY:Women's Midweek Service- Fun Event
DESCRIPTION:
URL:https://srqhousechurch.com/event/womens-midweek-service-fun-event/2026-12-23/
CATEGORIES:Midweek Services
ATTACH;FMTTYPE=image/jpeg:https://srqhousechurch.com/wp-content/uploads/2023/09/footer-main-1420.jpg
END:VEVENT
BEGIN:VEVENT
DTSTART;TZID=America/New_York:20270127T190000
DTEND;TZID=America/New_York:20270127T210000
DTSTAMP:20260425T162148
CREATED:20251227T173006Z
LAST-MODIFIED:20251227T173006Z
UID:10000658-1801076400-1801083600@srqhousechurch.com
SUMMARY:Women's Midweek Service- Fun Event
DESCRIPTION:
URL:https://srqhousechurch.com/event/womens-midweek-service-fun-event/2027-01-27/
CATEGORIES:Midweek Services
ATTACH;FMTTYPE=image/jpeg:https://srqhousechurch.com/wp-content/uploads/2023/09/footer-main-1420.jpg
END:VEVENT
END:VCALENDAR