BEGIN:VCALENDAR
VERSION:2.0
PRODID:-//SRQ housechurch - ECPv6.15.20//NONSGML v1.0//EN
CALSCALE:GREGORIAN
METHOD:PUBLISH
X-WR-CALNAME:SRQ housechurch
X-ORIGINAL-URL:https://srqhousechurch.com
X-WR-CALDESC:Events for SRQ housechurch
REFRESH-INTERVAL;VALUE=DURATION:PT1H
X-Robots-Tag:noindex
X-PUBLISHED-TTL:PT1H
BEGIN:VTIMEZONE
TZID:America/New_York
BEGIN:DAYLIGHT
TZOFFSETFROM:-0500
TZOFFSETTO:-0400
TZNAME:EDT
DTSTART:20250309T070000
END:DAYLIGHT
BEGIN:STANDARD
TZOFFSETFROM:-0400
TZOFFSETTO:-0500
TZNAME:EST
DTSTART:20251102T060000
END:STANDARD
BEGIN:DAYLIGHT
TZOFFSETFROM:-0500
TZOFFSETTO:-0400
TZNAME:EDT
DTSTART:20260308T070000
END:DAYLIGHT
BEGIN:STANDARD
TZOFFSETFROM:-0400
TZOFFSETTO:-0500
TZNAME:EST
DTSTART:20261101T060000
END:STANDARD
BEGIN:DAYLIGHT
TZOFFSETFROM:-0500
TZOFFSETTO:-0400
TZNAME:EDT
DTSTART:20270314T070000
END:DAYLIGHT
BEGIN:STANDARD
TZOFFSETFROM:-0400
TZOFFSETTO:-0500
TZNAME:EST
DTSTART:20271107T060000
END:STANDARD
BEGIN:DAYLIGHT
TZOFFSETFROM:-0500
TZOFFSETTO:-0400
TZNAME:EDT
DTSTART:20280312T070000
END:DAYLIGHT
BEGIN:STANDARD
TZOFFSETFROM:-0400
TZOFFSETTO:-0500
TZNAME:EST
DTSTART:20281105T060000
END:STANDARD
END:VTIMEZONE
BEGIN:VEVENT
DTSTART;TZID=America/New_York:20260520T190000
DTEND;TZID=America/New_York:20260520T210000
DTSTAMP:20260425T162146
CREATED:20251227T173843Z
LAST-MODIFIED:20251227T173843Z
UID:10000678-1779303600-1779310800@srqhousechurch.com
SUMMARY:Men's Midweek Service
DESCRIPTION:
URL:https://srqhousechurch.com/event/mens-midweek-service-3/2026-05-20/
CATEGORIES:Midweek Services
ATTACH;FMTTYPE=image/jpeg:https://srqhousechurch.com/wp-content/uploads/2022/05/IMG_2241.jpg
END:VEVENT
BEGIN:VEVENT
DTSTART;TZID=America/New_York:20260617T190000
DTEND;TZID=America/New_York:20260617T210000
DTSTAMP:20260425T162146
CREATED:20251227T173843Z
LAST-MODIFIED:20251227T173843Z
UID:10000679-1781722800-1781730000@srqhousechurch.com
SUMMARY:Men's Midweek Service
DESCRIPTION:
URL:https://srqhousechurch.com/event/mens-midweek-service-3/2026-06-17/
CATEGORIES:Midweek Services
ATTACH;FMTTYPE=image/jpeg:https://srqhousechurch.com/wp-content/uploads/2022/05/IMG_2241.jpg
END:VEVENT
BEGIN:VEVENT
DTSTART;TZID=America/New_York:20260715T190000
DTEND;TZID=America/New_York:20260715T210000
DTSTAMP:20260425T162146
CREATED:20251227T173843Z
LAST-MODIFIED:20251227T173843Z
UID:10000680-1784142000-1784149200@srqhousechurch.com
SUMMARY:Men's Midweek Service
DESCRIPTION:
URL:https://srqhousechurch.com/event/mens-midweek-service-3/2026-07-15/
CATEGORIES:Midweek Services
ATTACH;FMTTYPE=image/jpeg:https://srqhousechurch.com/wp-content/uploads/2022/05/IMG_2241.jpg
END:VEVENT
BEGIN:VEVENT
DTSTART;TZID=America/New_York:20260819T190000
DTEND;TZID=America/New_York:20260819T210000
DTSTAMP:20260425T162146
CREATED:20251227T173843Z
LAST-MODIFIED:20251227T173843Z
UID:10000681-1787166000-1787173200@srqhousechurch.com
SUMMARY:Men's Midweek Service
DESCRIPTION:
URL:https://srqhousechurch.com/event/mens-midweek-service-3/2026-08-19/
CATEGORIES:Midweek Services
ATTACH;FMTTYPE=image/jpeg:https://srqhousechurch.com/wp-content/uploads/2022/05/IMG_2241.jpg
END:VEVENT
BEGIN:VEVENT
DTSTART;TZID=America/New_York:20260916T190000
DTEND;TZID=America/New_York:20260916T210000
DTSTAMP:20260425T162146
CREATED:20251227T173843Z
LAST-MODIFIED:20251227T173843Z
UID:10000682-1789585200-1789592400@srqhousechurch.com
SUMMARY:Men's Midweek Service
DESCRIPTION:
URL:https://srqhousechurch.com/event/mens-midweek-service-3/2026-09-16/
CATEGORIES:Midweek Services
ATTACH;FMTTYPE=image/jpeg:https://srqhousechurch.com/wp-content/uploads/2022/05/IMG_2241.jpg
END:VEVENT
BEGIN:VEVENT
DTSTART;TZID=America/New_York:20261021T190000
DTEND;TZID=America/New_York:20261021T210000
DTSTAMP:20260425T162146
CREATED:20251227T173843Z
LAST-MODIFIED:20251227T173843Z
UID:10000683-1792609200-1792616400@srqhousechurch.com
SUMMARY:Men's Midweek Service
DESCRIPTION:
URL:https://srqhousechurch.com/event/mens-midweek-service-3/2026-10-21/
CATEGORIES:Midweek Services
ATTACH;FMTTYPE=image/jpeg:https://srqhousechurch.com/wp-content/uploads/2022/05/IMG_2241.jpg
END:VEVENT
BEGIN:VEVENT
DTSTART;TZID=America/New_York:20261118T190000
DTEND;TZID=America/New_York:20261118T210000
DTSTAMP:20260425T162146
CREATED:20251227T173843Z
LAST-MODIFIED:20251227T173843Z
UID:10000684-1795028400-1795035600@srqhousechurch.com
SUMMARY:Men's Midweek Service
DESCRIPTION:
URL:https://srqhousechurch.com/event/mens-midweek-service-3/2026-11-18/
CATEGORIES:Midweek Services
ATTACH;FMTTYPE=image/jpeg:https://srqhousechurch.com/wp-content/uploads/2022/05/IMG_2241.jpg
END:VEVENT
BEGIN:VEVENT
DTSTART;TZID=America/New_York:20261216T190000
DTEND;TZID=America/New_York:20261216T210000
DTSTAMP:20260425T162146
CREATED:20251227T173843Z
LAST-MODIFIED:20251227T173843Z
UID:10000685-1797447600-1797454800@srqhousechurch.com
SUMMARY:Men's Midweek Service
DESCRIPTION:
URL:https://srqhousechurch.com/event/mens-midweek-service-3/2026-12-16/
CATEGORIES:Midweek Services
ATTACH;FMTTYPE=image/jpeg:https://srqhousechurch.com/wp-content/uploads/2022/05/IMG_2241.jpg
END:VEVENT
BEGIN:VEVENT
DTSTART;TZID=America/New_York:20270120T190000
DTEND;TZID=America/New_York:20270120T210000
DTSTAMP:20260425T162146
CREATED:20251227T173843Z
LAST-MODIFIED:20251227T173843Z
UID:10000686-1800471600-1800478800@srqhousechurch.com
SUMMARY:Men's Midweek Service
DESCRIPTION:
URL:https://srqhousechurch.com/event/mens-midweek-service-3/2027-01-20/
CATEGORIES:Midweek Services
ATTACH;FMTTYPE=image/jpeg:https://srqhousechurch.com/wp-content/uploads/2022/05/IMG_2241.jpg
END:VEVENT
END:VCALENDAR