BEGIN:VCALENDAR
VERSION:2.0
PRODID:-//SRQ housechurch - ECPv6.15.20//NONSGML v1.0//EN
CALSCALE:GREGORIAN
METHOD:PUBLISH
X-WR-CALNAME:SRQ housechurch
X-ORIGINAL-URL:https://srqhousechurch.com
X-WR-CALDESC:Events for SRQ housechurch
REFRESH-INTERVAL;VALUE=DURATION:PT1H
X-Robots-Tag:noindex
X-PUBLISHED-TTL:PT1H
BEGIN:VTIMEZONE
TZID:America/New_York
BEGIN:DAYLIGHT
TZOFFSETFROM:-0500
TZOFFSETTO:-0400
TZNAME:EDT
DTSTART:20230312T070000
END:DAYLIGHT
BEGIN:STANDARD
TZOFFSETFROM:-0400
TZOFFSETTO:-0500
TZNAME:EST
DTSTART:20231105T060000
END:STANDARD
BEGIN:DAYLIGHT
TZOFFSETFROM:-0500
TZOFFSETTO:-0400
TZNAME:EDT
DTSTART:20240310T070000
END:DAYLIGHT
BEGIN:STANDARD
TZOFFSETFROM:-0400
TZOFFSETTO:-0500
TZNAME:EST
DTSTART:20241103T060000
END:STANDARD
BEGIN:DAYLIGHT
TZOFFSETFROM:-0500
TZOFFSETTO:-0400
TZNAME:EDT
DTSTART:20250309T070000
END:DAYLIGHT
BEGIN:STANDARD
TZOFFSETFROM:-0400
TZOFFSETTO:-0500
TZNAME:EST
DTSTART:20251102T060000
END:STANDARD
END:VTIMEZONE
BEGIN:VEVENT
DTSTART;TZID=America/New_York:20240403T190000
DTEND;TZID=America/New_York:20240403T203000
DTSTAMP:20260420T194207
CREATED:20231224T161335Z
LAST-MODIFIED:20231229T200341Z
UID:10000093-1712170800-1712176200@srqhousechurch.com
SUMMARY:Women's Midweek
DESCRIPTION:
URL:https://srqhousechurch.com/event/womens-midweek-6/2024-04-03/
CATEGORIES:Midweek Services
ATTACH;FMTTYPE=image/jpeg:https://srqhousechurch.com/wp-content/uploads/2023/09/xo-MKD-9321.jpg
END:VEVENT
BEGIN:VEVENT
DTSTART;TZID=America/New_York:20240407T100000
DTEND;TZID=America/New_York:20240407T120000
DTSTAMP:20260420T194207
CREATED:20231215T181616Z
LAST-MODIFIED:20231215T181616Z
UID:10000067-1712484000-1712491200@srqhousechurch.com
SUMMARY:Fruitville Housechurch Service
DESCRIPTION:
URL:https://srqhousechurch.com/event/fruitville-housechurch-service-10/
LOCATION:SRQ-Fruitville Housechurch\, 1664 Georgetowne Boulevard\, Sarasota\, Florida\, 34232
CATEGORIES:Housechurch Services
ATTACH;FMTTYPE=image/jpeg:https://srqhousechurch.com/wp-content/uploads/2023/11/MKD-9320-scaled.jpg
END:VEVENT
BEGIN:VEVENT
DTSTART;TZID=America/New_York:20240407T100000
DTEND;TZID=America/New_York:20240407T120000
DTSTAMP:20260420T194207
CREATED:20231230T121015Z
LAST-MODIFIED:20231230T121015Z
UID:10000355-1712484000-1712491200@srqhousechurch.com
SUMMARY:Longboat Key Beach Church
DESCRIPTION:
URL:https://srqhousechurch.com/event/longboat-key-beach-church/2024-04-07/
LOCATION:SRQ-Longboat Key Beach Church\, 1281 Gulf of Mexico Dr\, Longboat Key\, FL\, 34228\, United States
CATEGORIES:Housechurch Services
ATTACH;FMTTYPE=image/png:https://srqhousechurch.com/wp-content/uploads/2023/12/LBK-Beach-Church-Photo.png
END:VEVENT
BEGIN:VEVENT
DTSTART;TZID=America/New_York:20240407T100000
DTEND;TZID=America/New_York:20240407T120000
DTSTAMP:20260420T194207
CREATED:20240720T204251Z
LAST-MODIFIED:20240720T204251Z
UID:10000327-1712484000-1712491200@srqhousechurch.com
SUMMARY:Sarasota Housechurch Service
DESCRIPTION:
URL:https://srqhousechurch.com/event/sarasota-housechurch-service-19/
CATEGORIES:Housechurch Services
ATTACH;FMTTYPE=image/webp:https://srqhousechurch.com/wp-content/uploads/2023/09/MKD-9345.webp
END:VEVENT
END:VCALENDAR