BEGIN:VCALENDAR
VERSION:2.0
PRODID:-//SRQ housechurch - ECPv6.15.20//NONSGML v1.0//EN
CALSCALE:GREGORIAN
METHOD:PUBLISH
X-WR-CALNAME:SRQ housechurch
X-ORIGINAL-URL:https://srqhousechurch.com
X-WR-CALDESC:Events for SRQ housechurch
REFRESH-INTERVAL;VALUE=DURATION:PT1H
X-Robots-Tag:noindex
X-PUBLISHED-TTL:PT1H
BEGIN:VTIMEZONE
TZID:America/New_York
BEGIN:DAYLIGHT
TZOFFSETFROM:-0500
TZOFFSETTO:-0400
TZNAME:EDT
DTSTART:20240310T070000
END:DAYLIGHT
BEGIN:STANDARD
TZOFFSETFROM:-0400
TZOFFSETTO:-0500
TZNAME:EST
DTSTART:20241103T060000
END:STANDARD
BEGIN:DAYLIGHT
TZOFFSETFROM:-0500
TZOFFSETTO:-0400
TZNAME:EDT
DTSTART:20250309T070000
END:DAYLIGHT
BEGIN:STANDARD
TZOFFSETFROM:-0400
TZOFFSETTO:-0500
TZNAME:EST
DTSTART:20251102T060000
END:STANDARD
BEGIN:DAYLIGHT
TZOFFSETFROM:-0500
TZOFFSETTO:-0400
TZNAME:EDT
DTSTART:20260308T070000
END:DAYLIGHT
BEGIN:STANDARD
TZOFFSETFROM:-0400
TZOFFSETTO:-0500
TZNAME:EST
DTSTART:20261101T060000
END:STANDARD
END:VTIMEZONE
BEGIN:VEVENT
DTSTART;TZID=America/New_York:20250521T190000
DTEND;TZID=America/New_York:20250521T203000
DTSTAMP:20260421T130240
CREATED:20250129T211652Z
LAST-MODIFIED:20250129T211652Z
UID:10000431-1747854000-1747859400@srqhousechurch.com
SUMMARY:Women's Midweek
DESCRIPTION:
URL:https://srqhousechurch.com/event/womens-midweek-13/2025-05-21/
CATEGORIES:Midweek Services
ATTACH;FMTTYPE=image/webp:https://srqhousechurch.com/wp-content/uploads/2023/09/footer_3178-01.webp
END:VEVENT
BEGIN:VEVENT
DTSTART;TZID=America/New_York:20250525T100000
DTEND;TZID=America/New_York:20250525T120000
DTSTAMP:20260421T130240
CREATED:20250425T151951Z
LAST-MODIFIED:20250525T014000Z
UID:10000515-1748167200-1748174400@srqhousechurch.com
SUMMARY:Skye Ranch Housechurch Service
DESCRIPTION:
URL:https://srqhousechurch.com/event/skye-ranch-housechurch-service-17/
LOCATION:4031 Waikiki Dr. Sarasota\, FL. 34241
CATEGORIES:Housechurch Services
ATTACH;FMTTYPE=image/jpeg:https://srqhousechurch.com/wp-content/uploads/2023/09/footer-9103.jpg
END:VEVENT
BEGIN:VEVENT
DTSTART;TZID=America/New_York:20250525T100000
DTEND;TZID=America/New_York:20250525T120000
DTSTAMP:20260421T130240
CREATED:20250513T125556Z
LAST-MODIFIED:20250525T010125Z
UID:10000522-1748167200-1748174400@srqhousechurch.com
SUMMARY:North Port/Venice Housechurch Service
DESCRIPTION:
URL:https://srqhousechurch.com/event/north-port-venice-housechurch-service-2/
LOCATION:19040 Moscato Ct. Venice\, FL. 34293
CATEGORIES:Housechurch Services
ATTACH;FMTTYPE=image/jpeg:https://srqhousechurch.com/wp-content/uploads/2023/11/MKD-9320-scaled.jpg
END:VEVENT
BEGIN:VEVENT
DTSTART;TZID=America/New_York:20250525T110000
DTEND;TZID=America/New_York:20250525T130000
DTSTAMP:20260421T130240
CREATED:20250425T152052Z
LAST-MODIFIED:20250525T010034Z
UID:10000516-1748170800-1748178000@srqhousechurch.com
SUMMARY:Fruitville Housechurch Service
DESCRIPTION:
URL:https://srqhousechurch.com/event/fruitville-housechurch-service-34/
LOCATION:10325 Brendle Rd. Myakka City\, FL. 34251
CATEGORIES:Housechurch Services
ATTACH;FMTTYPE=image/webp:https://srqhousechurch.com/wp-content/uploads/2023/09/MKD-9345.webp
END:VEVENT
END:VCALENDAR